BEGIN:VCALENDAR
VERSION:2.0
PRODID:-//Omnivereniging S.C. ALVERNA - ECPv6.15.15//NONSGML v1.0//EN
CALSCALE:GREGORIAN
METHOD:PUBLISH
X-ORIGINAL-URL:https://www.vvalverna.com/00
X-WR-CALDESC:Evenementen voor Omnivereniging S.C. ALVERNA
REFRESH-INTERVAL;VALUE=DURATION:PT1H
X-Robots-Tag:noindex
X-PUBLISHED-TTL:PT1H
BEGIN:VTIMEZONE
TZID:Europe/Amsterdam
BEGIN:DAYLIGHT
TZOFFSETFROM:+0100
TZOFFSETTO:+0200
TZNAME:CEST
DTSTART:20250330T010000
END:DAYLIGHT
BEGIN:STANDARD
TZOFFSETFROM:+0200
TZOFFSETTO:+0100
TZNAME:CET
DTSTART:20251026T010000
END:STANDARD
BEGIN:DAYLIGHT
TZOFFSETFROM:+0100
TZOFFSETTO:+0200
TZNAME:CEST
DTSTART:20260329T010000
END:DAYLIGHT
BEGIN:STANDARD
TZOFFSETFROM:+0200
TZOFFSETTO:+0100
TZNAME:CET
DTSTART:20261025T010000
END:STANDARD
BEGIN:DAYLIGHT
TZOFFSETFROM:+0100
TZOFFSETTO:+0200
TZNAME:CEST
DTSTART:20270328T010000
END:DAYLIGHT
BEGIN:STANDARD
TZOFFSETFROM:+0200
TZOFFSETTO:+0100
TZNAME:CET
DTSTART:20271031T010000
END:STANDARD
END:VTIMEZONE
BEGIN:VEVENT
DTSTART;TZID=Europe/Amsterdam:20260131T090000
DTEND;TZID=Europe/Amsterdam:20260131T090000
DTSTAMP:20260421T091058
CREATED:20260115T165914Z
LAST-MODIFIED:20260115T165914Z
UID:165915-1769850000-1769850000@www.vvalverna.com
SUMMARY:Alverna JO11-1	-	DVOL JO11-1
DESCRIPTION:
URL:https://www.vvalverna.com/00/event/alverna-jo11-1-dvol-jo11-1-2/
LOCATION:Sportpark\, Bospad 5\, Alverna
CATEGORIES:Jeugd,Voetbal
END:VEVENT
BEGIN:VEVENT
DTSTART;TZID=Europe/Amsterdam:20260131T090000
DTEND;TZID=Europe/Amsterdam:20260131T090000
DTSTAMP:20260421T091058
CREATED:20260115T165950Z
LAST-MODIFIED:20260115T165950Z
UID:165917-1769850000-1769850000@www.vvalverna.com
SUMMARY:Alverna JO11-2	-	Woezik JO11-2JM
DESCRIPTION:
URL:https://www.vvalverna.com/00/event/alverna-jo11-2-woezik-jo11-2jm/
LOCATION:Sportpark\, Bospad 5\, Alverna
CATEGORIES:Jeugd,Voetbal
END:VEVENT
BEGIN:VEVENT
DTSTART;TZID=Europe/Amsterdam:20260131T103000
DTEND;TZID=Europe/Amsterdam:20260131T103000
DTSTAMP:20260421T091058
CREATED:20260115T165602Z
LAST-MODIFIED:20260115T165602Z
UID:165905-1769855400-1769855400@www.vvalverna.com
SUMMARY:AWC JO15-1	-	Alverna JO15-1
DESCRIPTION:
URL:https://www.vvalverna.com/00/event/awc-jo15-1-alverna-jo15-1/
CATEGORIES:Jeugd,Voetbal
END:VEVENT
BEGIN:VEVENT
DTSTART;TZID=Europe/Amsterdam:20260131T103000
DTEND;TZID=Europe/Amsterdam:20260131T103000
DTSTAMP:20260421T091058
CREATED:20260115T165835Z
LAST-MODIFIED:20260115T165835Z
UID:165913-1769855400-1769855400@www.vvalverna.com
SUMMARY:Alverna JO13-2	-	OSC JO13-1
DESCRIPTION:
URL:https://www.vvalverna.com/00/event/alverna-jo13-2-osc-jo13-1/
LOCATION:Sportpark\, Bospad 5\, Alverna
CATEGORIES:Jeugd,Voetbal
END:VEVENT
BEGIN:VEVENT
DTSTART;TZID=Europe/Amsterdam:20260131T103000
DTEND;TZID=Europe/Amsterdam:20260131T103000
DTSTAMP:20260421T091058
CREATED:20260115T170026Z
LAST-MODIFIED:20260115T170026Z
UID:165919-1769855400-1769855400@www.vvalverna.com
SUMMARY:Alverna JO10-2	-	Ewijk JO10-2
DESCRIPTION:
URL:https://www.vvalverna.com/00/event/alverna-jo10-2-ewijk-jo10-2-3/
LOCATION:Sportpark\, Bospad 5\, Alverna
CATEGORIES:Jeugd,Voetbal
END:VEVENT
BEGIN:VEVENT
DTSTART;TZID=Europe/Amsterdam:20260131T103000
DTEND;TZID=Europe/Amsterdam:20260131T103000
DTSTAMP:20260421T091058
CREATED:20260115T170056Z
LAST-MODIFIED:20260115T170056Z
UID:165921-1769855400-1769855400@www.vvalverna.com
SUMMARY:Woezik JO9-1	-	Alverna JO9-1
DESCRIPTION:
URL:https://www.vvalverna.com/00/event/woezik-jo9-1-alverna-jo9-1/
CATEGORIES:Jeugd,Voetbal
END:VEVENT
BEGIN:VEVENT
DTSTART;TZID=Europe/Amsterdam:20260131T110000
DTEND;TZID=Europe/Amsterdam:20260131T110000
DTSTAMP:20260421T091058
CREATED:20260115T165635Z
LAST-MODIFIED:20260115T172416Z
UID:165907-1769857200-1769857200@www.vvalverna.com
SUMMARY:Jonge Kracht JO15-1	-	Alverna JO15-2
DESCRIPTION:
URL:https://www.vvalverna.com/00/event/jonge-kracht-jo15-1-alverna-jo15-2/
CATEGORIES:Jeugd,Voetbal
END:VEVENT
BEGIN:VEVENT
DTSTART;TZID=Europe/Amsterdam:20260131T113000
DTEND;TZID=Europe/Amsterdam:20260131T113000
DTSTAMP:20260421T091058
CREATED:20260115T170129Z
LAST-MODIFIED:20260115T170129Z
UID:165923-1769859000-1769859000@www.vvalverna.com
SUMMARY:Leones JO8-3	-	Alverna JO8-1
DESCRIPTION:
URL:https://www.vvalverna.com/00/event/leones-jo8-3-alverna-jo8-1/
CATEGORIES:Jeugd,Voetbal
END:VEVENT
BEGIN:VEVENT
DTSTART;TZID=Europe/Amsterdam:20260131T120000
DTEND;TZID=Europe/Amsterdam:20260131T120000
DTSTAMP:20260421T091058
CREATED:20260115T165706Z
LAST-MODIFIED:20260115T172445Z
UID:165909-1769860800-1769860800@www.vvalverna.com
SUMMARY:Alverna JO14-1	-	Orion JO14-4
DESCRIPTION:
URL:https://www.vvalverna.com/00/event/alverna-jo14-1-orion-jo14-4/
LOCATION:Sportpark\, Bospad 5\, Alverna
CATEGORIES:Jeugd,Voetbal
END:VEVENT
BEGIN:VEVENT
DTSTART;TZID=Europe/Amsterdam:20260131T140000
DTEND;TZID=Europe/Amsterdam:20260131T140000
DTSTAMP:20260421T091058
CREATED:20260115T165534Z
LAST-MODIFIED:20260115T172508Z
UID:165903-1769868000-1769868000@www.vvalverna.com
SUMMARY:OSC JO19-2	-	Alverna JO19-1
DESCRIPTION:
URL:https://www.vvalverna.com/00/event/osc-jo19-2-alverna-jo19-1/
CATEGORIES:Jeugd,Voetbal
END:VEVENT
BEGIN:VEVENT
DTSTART;TZID=Europe/Amsterdam:20260131T143000
DTEND;TZID=Europe/Amsterdam:20260131T143000
DTSTAMP:20260421T091058
CREATED:20260115T165504Z
LAST-MODIFIED:20260115T165504Z
UID:165901-1769869800-1769869800@www.vvalverna.com
SUMMARY:Alverna 2	-	Kolping-Dynamo 3
DESCRIPTION:
URL:https://www.vvalverna.com/00/event/alverna-2-kolping-dynamo-3/
LOCATION:Sportpark\, Bospad 5\, Alverna
CATEGORIES:Voetbal
END:VEVENT
END:VCALENDAR