BEGIN:VCALENDAR
VERSION:2.0
PRODID:-//Omnivereniging S.C. ALVERNA - ECPv6.15.15//NONSGML v1.0//EN
CALSCALE:GREGORIAN
METHOD:PUBLISH
X-WR-CALNAME:Omnivereniging S.C. ALVERNA
X-ORIGINAL-URL:https://www.vvalverna.com/00
X-WR-CALDESC:Evenementen voor Omnivereniging S.C. ALVERNA
REFRESH-INTERVAL;VALUE=DURATION:PT1H
X-Robots-Tag:noindex
X-PUBLISHED-TTL:PT1H
BEGIN:VTIMEZONE
TZID:Europe/Amsterdam
BEGIN:DAYLIGHT
TZOFFSETFROM:+0100
TZOFFSETTO:+0200
TZNAME:CEST
DTSTART:20250330T010000
END:DAYLIGHT
BEGIN:STANDARD
TZOFFSETFROM:+0200
TZOFFSETTO:+0100
TZNAME:CET
DTSTART:20251026T010000
END:STANDARD
BEGIN:DAYLIGHT
TZOFFSETFROM:+0100
TZOFFSETTO:+0200
TZNAME:CEST
DTSTART:20260329T010000
END:DAYLIGHT
BEGIN:STANDARD
TZOFFSETFROM:+0200
TZOFFSETTO:+0100
TZNAME:CET
DTSTART:20261025T010000
END:STANDARD
BEGIN:DAYLIGHT
TZOFFSETFROM:+0100
TZOFFSETTO:+0200
TZNAME:CEST
DTSTART:20270328T010000
END:DAYLIGHT
BEGIN:STANDARD
TZOFFSETFROM:+0200
TZOFFSETTO:+0100
TZNAME:CET
DTSTART:20271031T010000
END:STANDARD
END:VTIMEZONE
BEGIN:VEVENT
DTSTART;TZID=Europe/Amsterdam:20260201T103000
DTEND;TZID=Europe/Amsterdam:20260201T103000
DTSTAMP:20260421T105036
CREATED:20250926T191755Z
LAST-MODIFIED:20250926T191755Z
UID:165338-1769941800-1769941800@www.vvalverna.com
SUMMARY:Beuningse Boys VR 1 - Alverna VR 1
DESCRIPTION:
URL:https://www.vvalverna.com/00/event/beuningse-boys-vr-1-alverna-vr-1/
CATEGORIES:Voetbal
END:VEVENT
BEGIN:VEVENT
DTSTART;TZID=Europe/Amsterdam:20260201T110000
DTEND;TZID=Europe/Amsterdam:20260201T110000
DTSTAMP:20260421T105036
CREATED:20260115T170214Z
LAST-MODIFIED:20260115T170214Z
UID:165925-1769943600-1769943600@www.vvalverna.com
SUMMARY:Heumen 3	-	Alverna 3
DESCRIPTION:
URL:https://www.vvalverna.com/00/event/heumen-3-alverna-3/
CATEGORIES:Voetbal
END:VEVENT
BEGIN:VEVENT
DTSTART;TZID=Europe/Amsterdam:20260201T143000
DTEND;TZID=Europe/Amsterdam:20260201T143000
DTSTAMP:20260421T105036
CREATED:20250926T175455Z
LAST-MODIFIED:20250926T175455Z
UID:165302-1769956200-1769956200@www.vvalverna.com
SUMMARY:Alverna 1 - SCD '33 1
DESCRIPTION:
URL:https://www.vvalverna.com/00/event/alverna-1-scd-33-1/
LOCATION:Sportpark\, Bospad 5\, Alverna
CATEGORIES:Voetbal
END:VEVENT
END:VCALENDAR