BEGIN:VCALENDAR
VERSION:2.0
PRODID:-//Omnivereniging S.C. ALVERNA - ECPv6.15.15//NONSGML v1.0//EN
CALSCALE:GREGORIAN
METHOD:PUBLISH
X-WR-CALNAME:Omnivereniging S.C. ALVERNA
X-ORIGINAL-URL:https://www.vvalverna.com/00
X-WR-CALDESC:Evenementen voor Omnivereniging S.C. ALVERNA
REFRESH-INTERVAL;VALUE=DURATION:PT1H
X-Robots-Tag:noindex
X-PUBLISHED-TTL:PT1H
BEGIN:VTIMEZONE
TZID:Europe/Amsterdam
BEGIN:DAYLIGHT
TZOFFSETFROM:+0100
TZOFFSETTO:+0200
TZNAME:CEST
DTSTART:20250330T010000
END:DAYLIGHT
BEGIN:STANDARD
TZOFFSETFROM:+0200
TZOFFSETTO:+0100
TZNAME:CET
DTSTART:20251026T010000
END:STANDARD
BEGIN:DAYLIGHT
TZOFFSETFROM:+0100
TZOFFSETTO:+0200
TZNAME:CEST
DTSTART:20260329T010000
END:DAYLIGHT
BEGIN:STANDARD
TZOFFSETFROM:+0200
TZOFFSETTO:+0100
TZNAME:CET
DTSTART:20261025T010000
END:STANDARD
BEGIN:DAYLIGHT
TZOFFSETFROM:+0100
TZOFFSETTO:+0200
TZNAME:CEST
DTSTART:20270328T010000
END:DAYLIGHT
BEGIN:STANDARD
TZOFFSETFROM:+0200
TZOFFSETTO:+0100
TZNAME:CET
DTSTART:20271031T010000
END:STANDARD
END:VTIMEZONE
BEGIN:VEVENT
DTSTART;TZID=Europe/Amsterdam:20260228T083000
DTEND;TZID=Europe/Amsterdam:20260228T083000
DTSTAMP:20260421T053748
CREATED:20260217T090228Z
LAST-MODIFIED:20260217T090228Z
UID:166039-1772267400-1772267400@www.vvalverna.com
SUMMARY:De Treffers JO9-1	- Alverna JO9-1
DESCRIPTION:
URL:https://www.vvalverna.com/00/event/de-treffers-jo9-1-alverna-jo9-1-2/
CATEGORIES:Jeugd,Voetbal
END:VEVENT
BEGIN:VEVENT
DTSTART;TZID=Europe/Amsterdam:20260228T090000
DTEND;TZID=Europe/Amsterdam:20260228T090000
DTSTAMP:20260421T053748
CREATED:20260217T090306Z
LAST-MODIFIED:20260217T090306Z
UID:166041-1772269200-1772269200@www.vvalverna.com
SUMMARY:Alverna JO11-2	- VDS '25 JO11-1
DESCRIPTION:
URL:https://www.vvalverna.com/00/event/alverna-jo11-2-vds-25-jo11-1/
LOCATION:Sportpark\, Bospad 5\, Alverna
CATEGORIES:Jeugd,Voetbal
END:VEVENT
BEGIN:VEVENT
DTSTART;TZID=Europe/Amsterdam:20260228T090000
DTEND;TZID=Europe/Amsterdam:20260228T090000
DTSTAMP:20260421T053748
CREATED:20260217T090340Z
LAST-MODIFIED:20260217T090340Z
UID:166043-1772269200-1772269200@www.vvalverna.com
SUMMARY:Beuningse boys JO11-1JM	- Alverna JO11-1
DESCRIPTION:
URL:https://www.vvalverna.com/00/event/beuningse-boys-jo11-1jm-alverna-jo11-1/
CATEGORIES:Jeugd,Voetbal
END:VEVENT
BEGIN:VEVENT
DTSTART;TZID=Europe/Amsterdam:20260228T091500
DTEND;TZID=Europe/Amsterdam:20260228T091500
DTSTAMP:20260421T053748
CREATED:20260217T090421Z
LAST-MODIFIED:20260217T090421Z
UID:166045-1772270100-1772270100@www.vvalverna.com
SUMMARY:Alverna JO8-1	- Beuningse boys JO8-4
DESCRIPTION:
URL:https://www.vvalverna.com/00/event/alverna-jo8-1-beuningse-boys-jo8-4-2/
LOCATION:Sportpark\, Bospad 5\, Alverna
CATEGORIES:Jeugd,Voetbal
END:VEVENT
BEGIN:VEVENT
DTSTART;TZID=Europe/Amsterdam:20260228T091500
DTEND;TZID=Europe/Amsterdam:20260228T091500
DTSTAMP:20260421T053748
CREATED:20260217T090507Z
LAST-MODIFIED:20260217T090507Z
UID:166047-1772270100-1772270100@www.vvalverna.com
SUMMARY:Alverna JO10-2	- AAC/Olympia JO10-1
DESCRIPTION:
URL:https://www.vvalverna.com/00/event/alverna-jo10-2-aac-olympia-jo10-1/
LOCATION:Sportpark\, Bospad 5\, Alverna
CATEGORIES:Jeugd,Voetbal
END:VEVENT
BEGIN:VEVENT
DTSTART;TZID=Europe/Amsterdam:20260228T110000
DTEND;TZID=Europe/Amsterdam:20260228T110000
DTSTAMP:20260421T053748
CREATED:20260217T090701Z
LAST-MODIFIED:20260217T090701Z
UID:166049-1772276400-1772276400@www.vvalverna.com
SUMMARY:ESA JO13-1 (disp)	Alverna JO13-2
DESCRIPTION:
URL:https://www.vvalverna.com/00/event/esa-jo13-1-dispalverna-jo13-2/
CATEGORIES:Jeugd,Voetbal
END:VEVENT
BEGIN:VEVENT
DTSTART;TZID=Europe/Amsterdam:20260228T110000
DTEND;TZID=Europe/Amsterdam:20260228T110000
DTSTAMP:20260421T053748
CREATED:20260217T090740Z
LAST-MODIFIED:20260217T090740Z
UID:166051-1772276400-1772276400@www.vvalverna.com
SUMMARY:Alverna JO13-1	- Spero JO13-2
DESCRIPTION:
URL:https://www.vvalverna.com/00/event/alverna-jo13-1-spero-jo13-2/
LOCATION:Sportpark\, Bospad 5\, Alverna
CATEGORIES:Jeugd,Voetbal
END:VEVENT
BEGIN:VEVENT
DTSTART;TZID=Europe/Amsterdam:20260228T110000
DTEND;TZID=Europe/Amsterdam:20260228T110000
DTSTAMP:20260421T053748
CREATED:20260217T094946Z
LAST-MODIFIED:20260217T094946Z
UID:166053-1772276400-1772276400@www.vvalverna.com
SUMMARY:Alverna JO14-1	- DVSG JO14-1
DESCRIPTION:
URL:https://www.vvalverna.com/00/event/alverna-jo14-1-dvsg-jo14-1/
LOCATION:Sportpark\, Bospad 5\, Alverna
CATEGORIES:Jeugd,Voetbal
END:VEVENT
BEGIN:VEVENT
DTSTART;TZID=Europe/Amsterdam:20260228T114500
DTEND;TZID=Europe/Amsterdam:20260228T114500
DTSTAMP:20260421T053748
CREATED:20260217T095037Z
LAST-MODIFIED:20260217T095530Z
UID:166055-1772279100-1772279100@www.vvalverna.com
SUMMARY:De Treffers JO15-2	- Alverna JO15-2
DESCRIPTION:
URL:https://www.vvalverna.com/00/event/de-treffers-jo15-2-alverna-jo15-2-2/
CATEGORIES:Jeugd,Voetbal
END:VEVENT
BEGIN:VEVENT
DTSTART;TZID=Europe/Amsterdam:20260228T123000
DTEND;TZID=Europe/Amsterdam:20260228T123000
DTSTAMP:20260421T053748
CREATED:20260217T095119Z
LAST-MODIFIED:20260217T095119Z
UID:166057-1772281800-1772281800@www.vvalverna.com
SUMMARY:Brakkenstein JO15-1	- Alverna JO15-1
DESCRIPTION:
URL:https://www.vvalverna.com/00/event/brakkenstein-jo15-1-alverna-jo15-1-4/
CATEGORIES:Jeugd,Voetbal
END:VEVENT
BEGIN:VEVENT
DTSTART;TZID=Europe/Amsterdam:20260228T150000
DTEND;TZID=Europe/Amsterdam:20260228T150000
DTSTAMP:20260421T053748
CREATED:20260217T095158Z
LAST-MODIFIED:20260217T095158Z
UID:166059-1772290800-1772290800@www.vvalverna.com
SUMMARY:Nijmegen 3	- Alverna2
DESCRIPTION:
URL:https://www.vvalverna.com/00/event/nijmegen-3-alverna2/
CATEGORIES:Voetbal
END:VEVENT
END:VCALENDAR