BEGIN:VCALENDAR
VERSION:2.0
PRODID:-//Omnivereniging S.C. ALVERNA - ECPv6.15.15//NONSGML v1.0//EN
CALSCALE:GREGORIAN
METHOD:PUBLISH
X-WR-CALNAME:Omnivereniging S.C. ALVERNA
X-ORIGINAL-URL:https://www.vvalverna.com/00
X-WR-CALDESC:Evenementen voor Omnivereniging S.C. ALVERNA
REFRESH-INTERVAL;VALUE=DURATION:PT1H
X-Robots-Tag:noindex
X-PUBLISHED-TTL:PT1H
BEGIN:VTIMEZONE
TZID:Europe/Amsterdam
BEGIN:DAYLIGHT
TZOFFSETFROM:+0100
TZOFFSETTO:+0200
TZNAME:CEST
DTSTART:20250330T010000
END:DAYLIGHT
BEGIN:STANDARD
TZOFFSETFROM:+0200
TZOFFSETTO:+0100
TZNAME:CET
DTSTART:20251026T010000
END:STANDARD
BEGIN:DAYLIGHT
TZOFFSETFROM:+0100
TZOFFSETTO:+0200
TZNAME:CEST
DTSTART:20260329T010000
END:DAYLIGHT
BEGIN:STANDARD
TZOFFSETFROM:+0200
TZOFFSETTO:+0100
TZNAME:CET
DTSTART:20261025T010000
END:STANDARD
BEGIN:DAYLIGHT
TZOFFSETFROM:+0100
TZOFFSETTO:+0200
TZNAME:CEST
DTSTART:20270328T010000
END:DAYLIGHT
BEGIN:STANDARD
TZOFFSETFROM:+0200
TZOFFSETTO:+0100
TZNAME:CET
DTSTART:20271031T010000
END:STANDARD
END:VTIMEZONE
BEGIN:VEVENT
DTSTART;TZID=Europe/Amsterdam:20260412T094500
DTEND;TZID=Europe/Amsterdam:20260412T094500
DTSTAMP:20260421T034757
CREATED:20260326T080453Z
LAST-MODIFIED:20260326T080453Z
UID:166192-1775987100-1775987100@www.vvalverna.com
SUMMARY:Alverna 3	- AWC 3
DESCRIPTION:
URL:https://www.vvalverna.com/00/event/alverna-3-awc-3/
CATEGORIES:Voetbal
END:VEVENT
BEGIN:VEVENT
DTSTART;TZID=Europe/Amsterdam:20260412T120000
DTEND;TZID=Europe/Amsterdam:20260412T170000
DTSTAMP:20260421T034757
CREATED:20250926T192857Z
LAST-MODIFIED:20250926T192857Z
UID:165353-1775995200-1776013200@www.vvalverna.com
SUMMARY:Alverna VR 1 - ST DAW/Achilles Reek VR 1
DESCRIPTION:
URL:https://www.vvalverna.com/00/event/alverna-vr-1-st-daw-achilles-reek-vr-1/
LOCATION:Sportpark\, Bospad 5\, Alverna
CATEGORIES:Voetbal
END:VEVENT
BEGIN:VEVENT
DTSTART;TZID=Europe/Amsterdam:20260412T140000
DTEND;TZID=Europe/Amsterdam:20260412T140000
DTSTAMP:20260421T034757
CREATED:20250926T190456Z
LAST-MODIFIED:20250926T190456Z
UID:165316-1776002400-1776002400@www.vvalverna.com
SUMMARY:Unitas 1 - Alverna 1
DESCRIPTION:
URL:https://www.vvalverna.com/00/event/unitas-1-alverna-1/
CATEGORIES:Voetbal
END:VEVENT
END:VCALENDAR