BEGIN:VCALENDAR
VERSION:2.0
PRODID:-//Omnivereniging S.C. ALVERNA - ECPv6.15.15//NONSGML v1.0//EN
CALSCALE:GREGORIAN
METHOD:PUBLISH
X-ORIGINAL-URL:https://www.vvalverna.com/00
X-WR-CALDESC:Evenementen voor Omnivereniging S.C. ALVERNA
REFRESH-INTERVAL;VALUE=DURATION:PT1H
X-Robots-Tag:noindex
X-PUBLISHED-TTL:PT1H
BEGIN:VTIMEZONE
TZID:Europe/Amsterdam
BEGIN:DAYLIGHT
TZOFFSETFROM:+0100
TZOFFSETTO:+0200
TZNAME:CEST
DTSTART:20250330T010000
END:DAYLIGHT
BEGIN:STANDARD
TZOFFSETFROM:+0200
TZOFFSETTO:+0100
TZNAME:CET
DTSTART:20251026T010000
END:STANDARD
BEGIN:DAYLIGHT
TZOFFSETFROM:+0100
TZOFFSETTO:+0200
TZNAME:CEST
DTSTART:20260329T010000
END:DAYLIGHT
BEGIN:STANDARD
TZOFFSETFROM:+0200
TZOFFSETTO:+0100
TZNAME:CET
DTSTART:20261025T010000
END:STANDARD
BEGIN:DAYLIGHT
TZOFFSETFROM:+0100
TZOFFSETTO:+0200
TZNAME:CEST
DTSTART:20270328T010000
END:DAYLIGHT
BEGIN:STANDARD
TZOFFSETFROM:+0200
TZOFFSETTO:+0100
TZNAME:CET
DTSTART:20271031T010000
END:STANDARD
END:VTIMEZONE
BEGIN:VEVENT
DTSTART;TZID=Europe/Amsterdam:20260418T090000
DTEND;TZID=Europe/Amsterdam:20260418T090000
DTSTAMP:20260421T052323
CREATED:20260407T151521Z
LAST-MODIFIED:20260407T151521Z
UID:166241-1776502800-1776502800@www.vvalverna.com
SUMMARY:Overasseltse B JO11-1	- Alverna JO11-2
DESCRIPTION:
URL:https://www.vvalverna.com/00/event/overasseltse-b-jo11-1-alverna-jo11-2/
CATEGORIES:Jeugd,Voetbal
END:VEVENT
BEGIN:VEVENT
DTSTART;TZID=Europe/Amsterdam:20260418T090000
DTEND;TZID=Europe/Amsterdam:20260418T090000
DTSTAMP:20260421T052323
CREATED:20260407T151548Z
LAST-MODIFIED:20260407T151548Z
UID:166243-1776502800-1776502800@www.vvalverna.com
SUMMARY:Alverna JO11-1	- SCE JO11-1
DESCRIPTION:
URL:https://www.vvalverna.com/00/event/alverna-jo11-1-sce-jo11-1/
CATEGORIES:Jeugd,Voetbal
END:VEVENT
BEGIN:VEVENT
DTSTART;TZID=Europe/Amsterdam:20260418T091500
DTEND;TZID=Europe/Amsterdam:20260418T091500
DTSTAMP:20260421T052323
CREATED:20260407T151621Z
LAST-MODIFIED:20260407T151621Z
UID:166245-1776503700-1776503700@www.vvalverna.com
SUMMARY:Alverna JO8-1	- Quick 1888 JO8-4
DESCRIPTION:
URL:https://www.vvalverna.com/00/event/alverna-jo8-1-quick-1888-jo8-4/
CATEGORIES:Jeugd,Voetbal
END:VEVENT
BEGIN:VEVENT
DTSTART;TZID=Europe/Amsterdam:20260418T103000
DTEND;TZID=Europe/Amsterdam:20260418T103000
DTSTAMP:20260421T052323
CREATED:20260407T151650Z
LAST-MODIFIED:20260407T151650Z
UID:166247-1776508200-1776508200@www.vvalverna.com
SUMMARY:Beun. Boys JO10-3	- Alverna JO10-2
DESCRIPTION:
URL:https://www.vvalverna.com/00/event/beun-boys-jo10-3-alverna-jo10-2/
CATEGORIES:Jeugd,Voetbal
END:VEVENT
BEGIN:VEVENT
DTSTART;TZID=Europe/Amsterdam:20260418T110000
DTEND;TZID=Europe/Amsterdam:20260418T110000
DTSTAMP:20260421T052323
CREATED:20260407T151719Z
LAST-MODIFIED:20260407T151719Z
UID:166249-1776510000-1776510000@www.vvalverna.com
SUMMARY:Quick 1888 JO9-1	- Alverna JO9-1
DESCRIPTION:
URL:https://www.vvalverna.com/00/event/quick-1888-jo9-1-alverna-jo9-1/
CATEGORIES:Jeugd,Voetbal
END:VEVENT
BEGIN:VEVENT
DTSTART;TZID=Europe/Amsterdam:20260418T123000
DTEND;TZID=Europe/Amsterdam:20260418T123000
DTSTAMP:20260421T052323
CREATED:20260407T151821Z
LAST-MODIFIED:20260407T151821Z
UID:166253-1776515400-1776515400@www.vvalverna.com
SUMMARY:Alverna JO15-1	- SKV JO15-1
DESCRIPTION:
URL:https://www.vvalverna.com/00/event/alverna-jo15-1-skv-jo15-1/
CATEGORIES:Jeugd,Voetbal
END:VEVENT
BEGIN:VEVENT
DTSTART;TZID=Europe/Amsterdam:20260418T143000
DTEND;TZID=Europe/Amsterdam:20260418T143000
DTSTAMP:20260421T052323
CREATED:20260407T151905Z
LAST-MODIFIED:20260407T151905Z
UID:166255-1776522600-1776522600@www.vvalverna.com
SUMMARY:Quick 1888 JO15-2	- Alverna JO15-2
DESCRIPTION:
URL:https://www.vvalverna.com/00/event/quick-1888-jo15-2-alverna-jo15-2/
CATEGORIES:Jeugd,Voetbal
END:VEVENT
BEGIN:VEVENT
DTSTART;TZID=Europe/Amsterdam:20260418T143000
DTEND;TZID=Europe/Amsterdam:20260418T143000
DTSTAMP:20260421T052323
CREATED:20260407T151938Z
LAST-MODIFIED:20260407T151938Z
UID:166257-1776522600-1776522600@www.vvalverna.com
SUMMARY:Alverna JO19-1	- Diosa-Niftrik JO19-1
DESCRIPTION:
URL:https://www.vvalverna.com/00/event/alverna-jo19-1-diosa-niftrik-jo19-1/
CATEGORIES:Jeugd,Voetbal
END:VEVENT
BEGIN:VEVENT
DTSTART;TZID=Europe/Amsterdam:20260418T150000
DTEND;TZID=Europe/Amsterdam:20260418T150000
DTSTAMP:20260421T052323
CREATED:20260407T152006Z
LAST-MODIFIED:20260407T152006Z
UID:166259-1776524400-1776524400@www.vvalverna.com
SUMMARY:Trekvogels 4	- Alverna 2
DESCRIPTION:
URL:https://www.vvalverna.com/00/event/trekvogels-4-alverna-2-2/
CATEGORIES:Voetbal
END:VEVENT
BEGIN:VEVENT
DTSTART;TZID=Europe/Amsterdam:20260418T180000
DTEND;TZID=Europe/Amsterdam:20260418T180000
DTSTAMP:20260421T052323
CREATED:20260407T152036Z
LAST-MODIFIED:20260407T152036Z
UID:166261-1776535200-1776535200@www.vvalverna.com
SUMMARY:Alverna 1	- Roda '28 1
DESCRIPTION:
URL:https://www.vvalverna.com/00/event/alverna-1-roda-28-1-2/
CATEGORIES:Voetbal
END:VEVENT
END:VCALENDAR