BEGIN:VCALENDAR
VERSION:2.0
PRODID:-//Omnivereniging S.C. ALVERNA - ECPv6.15.15//NONSGML v1.0//EN
CALSCALE:GREGORIAN
METHOD:PUBLISH
X-WR-CALNAME:Omnivereniging S.C. ALVERNA
X-ORIGINAL-URL:https://www.vvalverna.com/00
X-WR-CALDESC:Evenementen voor Omnivereniging S.C. ALVERNA
REFRESH-INTERVAL;VALUE=DURATION:PT1H
X-Robots-Tag:noindex
X-PUBLISHED-TTL:PT1H
BEGIN:VTIMEZONE
TZID:Europe/Amsterdam
BEGIN:DAYLIGHT
TZOFFSETFROM:+0100
TZOFFSETTO:+0200
TZNAME:CEST
DTSTART:20250330T010000
END:DAYLIGHT
BEGIN:STANDARD
TZOFFSETFROM:+0200
TZOFFSETTO:+0100
TZNAME:CET
DTSTART:20251026T010000
END:STANDARD
BEGIN:DAYLIGHT
TZOFFSETFROM:+0100
TZOFFSETTO:+0200
TZNAME:CEST
DTSTART:20260329T010000
END:DAYLIGHT
BEGIN:STANDARD
TZOFFSETFROM:+0200
TZOFFSETTO:+0100
TZNAME:CET
DTSTART:20261025T010000
END:STANDARD
BEGIN:DAYLIGHT
TZOFFSETFROM:+0100
TZOFFSETTO:+0200
TZNAME:CEST
DTSTART:20270328T010000
END:DAYLIGHT
BEGIN:STANDARD
TZOFFSETFROM:+0200
TZOFFSETTO:+0100
TZNAME:CET
DTSTART:20271031T010000
END:STANDARD
END:VTIMEZONE
BEGIN:VEVENT
DTSTART;TZID=Europe/Amsterdam:20260419T103000
DTEND;TZID=Europe/Amsterdam:20260419T103000
DTSTAMP:20260421T052506
CREATED:20250926T190609Z
LAST-MODIFIED:20260407T152140Z
UID:165318-1776594600-1776594600@www.vvalverna.com
SUMMARY:Alverna 3	- Orion 9
DESCRIPTION:
URL:https://www.vvalverna.com/00/event/alverna-1-roda-28-1/
LOCATION:Sportpark\, Bospad 5\, Alverna
CATEGORIES:Voetbal
END:VEVENT
BEGIN:VEVENT
DTSTART;TZID=Europe/Amsterdam:20260419T143000
DTEND;TZID=Europe/Amsterdam:20260419T143000
DTSTAMP:20260421T052506
CREATED:20250926T193006Z
LAST-MODIFIED:20250926T193006Z
UID:165355-1776609000-1776609000@www.vvalverna.com
SUMMARY:NSVV FC Kunde VR 1 - Alverna VR 1
DESCRIPTION:
URL:https://www.vvalverna.com/00/event/nsvv-fc-kunde-vr-1-alverna-vr-1/
CATEGORIES:Voetbal
END:VEVENT
END:VCALENDAR