BEGIN:VCALENDAR
VERSION:2.0
PRODID:-//Omnivereniging S.C. ALVERNA - ECPv6.15.15//NONSGML v1.0//EN
CALSCALE:GREGORIAN
METHOD:PUBLISH
X-WR-CALNAME:Omnivereniging S.C. ALVERNA
X-ORIGINAL-URL:https://www.vvalverna.com/00
X-WR-CALDESC:Evenementen voor Omnivereniging S.C. ALVERNA
REFRESH-INTERVAL;VALUE=DURATION:PT1H
X-Robots-Tag:noindex
X-PUBLISHED-TTL:PT1H
BEGIN:VTIMEZONE
TZID:Europe/Amsterdam
BEGIN:DAYLIGHT
TZOFFSETFROM:+0100
TZOFFSETTO:+0200
TZNAME:CEST
DTSTART:20250330T010000
END:DAYLIGHT
BEGIN:STANDARD
TZOFFSETFROM:+0200
TZOFFSETTO:+0100
TZNAME:CET
DTSTART:20251026T010000
END:STANDARD
BEGIN:DAYLIGHT
TZOFFSETFROM:+0100
TZOFFSETTO:+0200
TZNAME:CEST
DTSTART:20260329T010000
END:DAYLIGHT
BEGIN:STANDARD
TZOFFSETFROM:+0200
TZOFFSETTO:+0100
TZNAME:CET
DTSTART:20261025T010000
END:STANDARD
BEGIN:DAYLIGHT
TZOFFSETFROM:+0100
TZOFFSETTO:+0200
TZNAME:CEST
DTSTART:20270328T010000
END:DAYLIGHT
BEGIN:STANDARD
TZOFFSETFROM:+0200
TZOFFSETTO:+0100
TZNAME:CET
DTSTART:20271031T010000
END:STANDARD
END:VTIMEZONE
BEGIN:VEVENT
DTSTART;TZID=Europe/Amsterdam:20260426T140000
DTEND;TZID=Europe/Amsterdam:20260426T140000
DTSTAMP:20260421T034752
CREATED:20250926T190743Z
LAST-MODIFIED:20250926T190743Z
UID:165320-1777212000-1777212000@www.vvalverna.com
SUMMARY:Nijmegen 1 - Alverna 1
DESCRIPTION:
URL:https://www.vvalverna.com/00/event/nijmegen-1-alverna-1/
CATEGORIES:Voetbal
END:VEVENT
END:VCALENDAR