BEGIN:VCALENDAR
VERSION:2.0
PRODID:-//Omnivereniging S.C. ALVERNA - ECPv6.15.15//NONSGML v1.0//EN
CALSCALE:GREGORIAN
METHOD:PUBLISH
X-WR-CALNAME:Omnivereniging S.C. ALVERNA
X-ORIGINAL-URL:https://www.vvalverna.com/00
X-WR-CALDESC:Evenementen voor Omnivereniging S.C. ALVERNA
REFRESH-INTERVAL;VALUE=DURATION:PT1H
X-Robots-Tag:noindex
X-PUBLISHED-TTL:PT1H
BEGIN:VTIMEZONE
TZID:Europe/Amsterdam
BEGIN:DAYLIGHT
TZOFFSETFROM:+0100
TZOFFSETTO:+0200
TZNAME:CEST
DTSTART:20240331T010000
END:DAYLIGHT
BEGIN:STANDARD
TZOFFSETFROM:+0200
TZOFFSETTO:+0100
TZNAME:CET
DTSTART:20241027T010000
END:STANDARD
BEGIN:DAYLIGHT
TZOFFSETFROM:+0100
TZOFFSETTO:+0200
TZNAME:CEST
DTSTART:20250330T010000
END:DAYLIGHT
BEGIN:STANDARD
TZOFFSETFROM:+0200
TZOFFSETTO:+0100
TZNAME:CET
DTSTART:20251026T010000
END:STANDARD
BEGIN:DAYLIGHT
TZOFFSETFROM:+0100
TZOFFSETTO:+0200
TZNAME:CEST
DTSTART:20260329T010000
END:DAYLIGHT
BEGIN:STANDARD
TZOFFSETFROM:+0200
TZOFFSETTO:+0100
TZNAME:CET
DTSTART:20261025T010000
END:STANDARD
END:VTIMEZONE
BEGIN:VEVENT
DTSTART;TZID=Europe/Amsterdam:20251105T133000
DTEND;TZID=Europe/Amsterdam:20251105T133000
DTSTAMP:20260421T172640
CREATED:20250814T125413Z
LAST-MODIFIED:20250814T125413Z
UID:164142-1762349400-1762349400@www.vvalverna.com
SUMMARY:Paschalis 7 - BVA 3
DESCRIPTION:
URL:https://www.vvalverna.com/00/event/paschalis-7-bva-3/
CATEGORIES:Biljart
END:VEVENT
BEGIN:VEVENT
DTSTART;TZID=Europe/Amsterdam:20251105T133000
DTEND;TZID=Europe/Amsterdam:20251105T133000
DTSTAMP:20260421T172640
CREATED:20250814T125511Z
LAST-MODIFIED:20250814T125511Z
UID:164144-1762349400-1762349400@www.vvalverna.com
SUMMARY:BVA 4 - BVBW 5
DESCRIPTION:
URL:https://www.vvalverna.com/00/event/bva-4-bvbw-5/
LOCATION:Kantine\, Bospad 5\, Alverna
CATEGORIES:Biljart
END:VEVENT
BEGIN:VEVENT
DTSTART;TZID=Europe/Amsterdam:20251111T133000
DTEND;TZID=Europe/Amsterdam:20251111T133000
DTSTAMP:20260421T172640
CREATED:20250814T125604Z
LAST-MODIFIED:20250814T125604Z
UID:164146-1762867800-1762867800@www.vvalverna.com
SUMMARY:BV Oost 7 - BVA 4
DESCRIPTION:
URL:https://www.vvalverna.com/00/event/bv-oost-7-bva-4/
CATEGORIES:Biljart
END:VEVENT
BEGIN:VEVENT
DTSTART;TZID=Europe/Amsterdam:20251112T133000
DTEND;TZID=Europe/Amsterdam:20251112T133000
DTSTAMP:20260421T172640
CREATED:20250814T125654Z
LAST-MODIFIED:20250814T125654Z
UID:164148-1762954200-1762954200@www.vvalverna.com
SUMMARY:BVA 3 - SWWZ 4
DESCRIPTION:
URL:https://www.vvalverna.com/00/event/bva-3-swwz-4/
LOCATION:Kantine\, Bospad 5\, Alverna
CATEGORIES:Biljart
END:VEVENT
BEGIN:VEVENT
DTSTART;TZID=Europe/Amsterdam:20251119T133000
DTEND;TZID=Europe/Amsterdam:20251119T133000
DTSTAMP:20260421T172640
CREATED:20250814T125840Z
LAST-MODIFIED:20250814T125840Z
UID:164152-1763559000-1763559000@www.vvalverna.com
SUMMARY:BVA 4 - BCAH 7
DESCRIPTION:
URL:https://www.vvalverna.com/00/event/bva-4-bcah-7/
CATEGORIES:Biljart
END:VEVENT
BEGIN:VEVENT
DTSTART;TZID=Europe/Amsterdam:20251127T133000
DTEND;TZID=Europe/Amsterdam:20251127T133000
DTSTAMP:20260421T172640
CREATED:20250814T125938Z
LAST-MODIFIED:20250814T131113Z
UID:164154-1764250200-1764250200@www.vvalverna.com
SUMMARY:BCAH 7 - BVA 3
DESCRIPTION:
URL:https://www.vvalverna.com/00/event/bcah-7-bva-3/
CATEGORIES:Biljart
END:VEVENT
BEGIN:VEVENT
DTSTART;TZID=Europe/Amsterdam:20251127T133000
DTEND;TZID=Europe/Amsterdam:20251127T133000
DTSTAMP:20260421T172640
CREATED:20250814T130039Z
LAST-MODIFIED:20250814T145756Z
UID:164156-1764250200-1764250200@www.vvalverna.com
SUMMARY:BV Oost 6 - BVA 4
DESCRIPTION:
URL:https://www.vvalverna.com/00/event/bv-oost-6-bva-4-2/
CATEGORIES:Biljart
END:VEVENT
END:VCALENDAR