BEGIN:VCALENDAR
VERSION:2.0
PRODID:-//Omnivereniging S.C. ALVERNA - ECPv6.15.15//NONSGML v1.0//EN
CALSCALE:GREGORIAN
METHOD:PUBLISH
X-ORIGINAL-URL:https://www.vvalverna.com/00
X-WR-CALDESC:Evenementen voor Omnivereniging S.C. ALVERNA
REFRESH-INTERVAL;VALUE=DURATION:PT1H
X-Robots-Tag:noindex
X-PUBLISHED-TTL:PT1H
BEGIN:VTIMEZONE
TZID:Europe/Amsterdam
BEGIN:DAYLIGHT
TZOFFSETFROM:+0100
TZOFFSETTO:+0200
TZNAME:CEST
DTSTART:20250330T010000
END:DAYLIGHT
BEGIN:STANDARD
TZOFFSETFROM:+0200
TZOFFSETTO:+0100
TZNAME:CET
DTSTART:20251026T010000
END:STANDARD
BEGIN:DAYLIGHT
TZOFFSETFROM:+0100
TZOFFSETTO:+0200
TZNAME:CEST
DTSTART:20260329T010000
END:DAYLIGHT
BEGIN:STANDARD
TZOFFSETFROM:+0200
TZOFFSETTO:+0100
TZNAME:CET
DTSTART:20261025T010000
END:STANDARD
BEGIN:DAYLIGHT
TZOFFSETFROM:+0100
TZOFFSETTO:+0200
TZNAME:CEST
DTSTART:20270328T010000
END:DAYLIGHT
BEGIN:STANDARD
TZOFFSETFROM:+0200
TZOFFSETTO:+0100
TZNAME:CET
DTSTART:20271031T010000
END:STANDARD
END:VTIMEZONE
BEGIN:VEVENT
DTSTART;TZID=Europe/Amsterdam:20260502T093000
DTEND;TZID=Europe/Amsterdam:20260502T093000
DTSTAMP:20260421T072804
CREATED:20260420T154738Z
LAST-MODIFIED:20260420T154738Z
UID:166335-1777714200-1777714200@www.vvalverna.com
SUMMARY:Jeugdtoernooi
DESCRIPTION:
URL:https://www.vvalverna.com/00/event/jeugdtoernooi-2/
CATEGORIES:Jeugd,Voetbal
END:VEVENT
BEGIN:VEVENT
DTSTART;TZID=Europe/Amsterdam:20260502T123000
DTEND;TZID=Europe/Amsterdam:20260502T123000
DTSTAMP:20260421T072804
CREATED:20260408T170450Z
LAST-MODIFIED:20260408T170450Z
UID:166264-1777725000-1777725000@www.vvalverna.com
SUMMARY:Brakkenstein JO15-1	- Alverna JO15-1
DESCRIPTION:
URL:https://www.vvalverna.com/00/event/brakkenstein-jo15-1-alverna-jo15-1-5/
CATEGORIES:Jeugd,Voetbal
END:VEVENT
BEGIN:VEVENT
DTSTART;TZID=Europe/Amsterdam:20260506T191500
DTEND;TZID=Europe/Amsterdam:20260506T191500
DTSTAMP:20260421T072804
CREATED:20260416T181640Z
LAST-MODIFIED:20260416T181640Z
UID:166272-1778094900-1778094900@www.vvalverna.com
SUMMARY:Quick 1888 JO13-1 - Alverna JO13-2
DESCRIPTION:
URL:https://www.vvalverna.com/00/event/quick-1888-jo13-1-alverna-jo13-2/
CATEGORIES:Jeugd,Voetbal
END:VEVENT
BEGIN:VEVENT
DTSTART;TZID=Europe/Amsterdam:20260516T084500
DTEND;TZID=Europe/Amsterdam:20260516T084500
DTSTAMP:20260421T072804
CREATED:20260420T152718Z
LAST-MODIFIED:20260420T152718Z
UID:166280-1778921100-1778921100@www.vvalverna.com
SUMMARY:N.E.C. voetbalacademie	- Alverna JO11-1
DESCRIPTION:
URL:https://www.vvalverna.com/00/event/n-e-c-voetbalacademie-alverna-jo11-1/
CATEGORIES:Jeugd,Voetbal
END:VEVENT
BEGIN:VEVENT
DTSTART;TZID=Europe/Amsterdam:20260516T090000
DTEND;TZID=Europe/Amsterdam:20260516T090000
DTSTAMP:20260421T072804
CREATED:20260420T152811Z
LAST-MODIFIED:20260420T152811Z
UID:166282-1778922000-1778922000@www.vvalverna.com
SUMMARY:Alverna JO11-2	- Oranje Blauw JO11-1
DESCRIPTION:
URL:https://www.vvalverna.com/00/event/alverna-jo11-2-oranje-blauw-jo11-1/
CATEGORIES:Jeugd,Voetbal
END:VEVENT
BEGIN:VEVENT
DTSTART;TZID=Europe/Amsterdam:20260516T091500
DTEND;TZID=Europe/Amsterdam:20260516T091500
DTSTAMP:20260421T072804
CREATED:20260420T152855Z
LAST-MODIFIED:20260420T152855Z
UID:166284-1778922900-1778922900@www.vvalverna.com
SUMMARY:Alverna JO9-1	- AWC JO19-1
DESCRIPTION:
URL:https://www.vvalverna.com/00/event/alverna-jo9-1-awc-jo19-1/
CATEGORIES:Jeugd,Voetbal
END:VEVENT
BEGIN:VEVENT
DTSTART;TZID=Europe/Amsterdam:20260516T091500
DTEND;TZID=Europe/Amsterdam:20260516T091500
DTSTAMP:20260421T072804
CREATED:20260420T152933Z
LAST-MODIFIED:20260420T152953Z
UID:166286-1778922900-1778922900@www.vvalverna.com
SUMMARY:Heumen JO8-2	- Alverna JO8-1
DESCRIPTION:
URL:https://www.vvalverna.com/00/event/heumen-jo8-2alverna-jo8-1/
CATEGORIES:Jeugd,Voetbal
END:VEVENT
BEGIN:VEVENT
DTSTART;TZID=Europe/Amsterdam:20260516T101500
DTEND;TZID=Europe/Amsterdam:20260516T101500
DTSTAMP:20260421T072804
CREATED:20260420T153048Z
LAST-MODIFIED:20260420T153048Z
UID:166289-1778926500-1778926500@www.vvalverna.com
SUMMARY:Blauw Wit JO14-2	- Alverna JO14-1
DESCRIPTION:
URL:https://www.vvalverna.com/00/event/blauw-wit-jo14-2-alverna-jo14-1-2/
CATEGORIES:Jeugd,Voetbal
END:VEVENT
BEGIN:VEVENT
DTSTART;TZID=Europe/Amsterdam:20260516T110000
DTEND;TZID=Europe/Amsterdam:20260516T110000
DTSTAMP:20260421T072804
CREATED:20260420T153136Z
LAST-MODIFIED:20260420T153136Z
UID:166291-1778929200-1778929200@www.vvalverna.com
SUMMARY:Alverna JO13-2	- Orion JO13-1
DESCRIPTION:
URL:https://www.vvalverna.com/00/event/alverna-jo13-2-orion-jo13-1/
CATEGORIES:Jeugd,Voetbal
END:VEVENT
BEGIN:VEVENT
DTSTART;TZID=Europe/Amsterdam:20260516T110000
DTEND;TZID=Europe/Amsterdam:20260516T110000
DTSTAMP:20260421T072804
CREATED:20260420T153210Z
LAST-MODIFIED:20260420T153210Z
UID:166293-1778929200-1778929200@www.vvalverna.com
SUMMARY:Alverna JO13-1	- Trekvogels JO13-2
DESCRIPTION:
URL:https://www.vvalverna.com/00/event/alverna-jo13-1-trekvogels-jo13-2/
CATEGORIES:Jeugd,Voetbal
END:VEVENT
BEGIN:VEVENT
DTSTART;TZID=Europe/Amsterdam:20260516T120000
DTEND;TZID=Europe/Amsterdam:20260516T120000
DTSTAMP:20260421T072804
CREATED:20260420T153245Z
LAST-MODIFIED:20260420T153245Z
UID:166295-1778932800-1778932800@www.vvalverna.com
SUMMARY:Arnhemse Boys JO15-1	- Alverna JO15-1
DESCRIPTION:
URL:https://www.vvalverna.com/00/event/arnhemse-boys-jo15-1-alverna-jo15-1/
CATEGORIES:Jeugd,Voetbal
END:VEVENT
BEGIN:VEVENT
DTSTART;TZID=Europe/Amsterdam:20260516T121500
DTEND;TZID=Europe/Amsterdam:20260516T121500
DTSTAMP:20260421T072804
CREATED:20260420T153332Z
LAST-MODIFIED:20260420T153332Z
UID:166297-1778933700-1778933700@www.vvalverna.com
SUMMARY:Alverna JO15-2	- ESA JO15-1
DESCRIPTION:
URL:https://www.vvalverna.com/00/event/alverna-jo15-2-esa-jo15-1/
CATEGORIES:Jeugd,Voetbal
END:VEVENT
BEGIN:VEVENT
DTSTART;TZID=Europe/Amsterdam:20260516T163000
DTEND;TZID=Europe/Amsterdam:20260516T163000
DTSTAMP:20260421T072804
CREATED:20260420T153446Z
LAST-MODIFIED:20260420T153446Z
UID:166301-1778949000-1778949000@www.vvalverna.com
SUMMARY:Woezik JO19-3	- Alverna JO19-1
DESCRIPTION:
URL:https://www.vvalverna.com/00/event/woezik-jo19-3-alverna-jo19-1-2/
CATEGORIES:Jeugd,Voetbal
END:VEVENT
BEGIN:VEVENT
DTSTART;TZID=Europe/Amsterdam:20260523T090000
DTEND;TZID=Europe/Amsterdam:20260523T090000
DTSTAMP:20260421T072804
CREATED:20260420T153707Z
LAST-MODIFIED:20260420T153707Z
UID:166305-1779526800-1779526800@www.vvalverna.com
SUMMARY:Alverna JO11-1	- DVOL JO11-1
DESCRIPTION:
URL:https://www.vvalverna.com/00/event/alverna-jo11-1-dvol-jo11-1-3/
CATEGORIES:Jeugd,Voetbal
END:VEVENT
BEGIN:VEVENT
DTSTART;TZID=Europe/Amsterdam:20260523T090000
DTEND;TZID=Europe/Amsterdam:20260523T090000
DTSTAMP:20260421T072804
CREATED:20260420T153747Z
LAST-MODIFIED:20260420T153747Z
UID:166307-1779526800-1779526800@www.vvalverna.com
SUMMARY:SCE JO10-3	- Alverna JO10-2
DESCRIPTION:
URL:https://www.vvalverna.com/00/event/sce-jo10-3-alverna-jo10-2/
CATEGORIES:Jeugd,Voetbal
END:VEVENT
BEGIN:VEVENT
DTSTART;TZID=Europe/Amsterdam:20260523T091500
DTEND;TZID=Europe/Amsterdam:20260523T091500
DTSTAMP:20260421T072804
CREATED:20260420T153824Z
LAST-MODIFIED:20260420T153824Z
UID:166309-1779527700-1779527700@www.vvalverna.com
SUMMARY:Alverna JO8-1	- Beun. Boys JO8-4
DESCRIPTION:
URL:https://www.vvalverna.com/00/event/alverna-jo8-1-beun-boys-jo8-4/
CATEGORIES:Jeugd,Voetbal
END:VEVENT
BEGIN:VEVENT
DTSTART;TZID=Europe/Amsterdam:20260523T103000
DTEND;TZID=Europe/Amsterdam:20260523T103000
DTSTAMP:20260421T072804
CREATED:20260420T153857Z
LAST-MODIFIED:20260420T153857Z
UID:166311-1779532200-1779532200@www.vvalverna.com
SUMMARY:BVC '12 JO11-1	Alverna JO11-2
DESCRIPTION:
URL:https://www.vvalverna.com/00/event/bvc-12-jo11-1alverna-jo11-2/
CATEGORIES:Jeugd,Voetbal
END:VEVENT
BEGIN:VEVENT
DTSTART;TZID=Europe/Amsterdam:20260523T103000
DTEND;TZID=Europe/Amsterdam:20260523T103000
DTSTAMP:20260421T072804
CREATED:20260420T153933Z
LAST-MODIFIED:20260420T153933Z
UID:166313-1779532200-1779532200@www.vvalverna.com
SUMMARY:Dio '30 JO9-1	Alverna JO9-1
DESCRIPTION:
URL:https://www.vvalverna.com/00/event/dio-30-jo9-1alverna-jo9-1/
CATEGORIES:Jeugd,Voetbal
END:VEVENT
BEGIN:VEVENT
DTSTART;TZID=Europe/Amsterdam:20260530T090000
DTEND;TZID=Europe/Amsterdam:20260530T090000
DTSTAMP:20260421T072804
CREATED:20260420T154035Z
LAST-MODIFIED:20260420T154035Z
UID:166315-1780131600-1780131600@www.vvalverna.com
SUMMARY:Alverna JO11-2	- De Treffers JO11-2
DESCRIPTION:
URL:https://www.vvalverna.com/00/event/alverna-jo11-2-de-treffers-jo11-2/
CATEGORIES:Jeugd,Voetbal
END:VEVENT
BEGIN:VEVENT
DTSTART;TZID=Europe/Amsterdam:20260530T091500
DTEND;TZID=Europe/Amsterdam:20260530T091500
DTSTAMP:20260421T072804
CREATED:20260420T154104Z
LAST-MODIFIED:20260420T154104Z
UID:166317-1780132500-1780132500@www.vvalverna.com
SUMMARY:Alverna JO10-2	Blauw Wit JO10-3
DESCRIPTION:
URL:https://www.vvalverna.com/00/event/alverna-jo10-2blauw-wit-jo10-3/
CATEGORIES:Jeugd,Voetbal
END:VEVENT
BEGIN:VEVENT
DTSTART;TZID=Europe/Amsterdam:20260530T091500
DTEND;TZID=Europe/Amsterdam:20260530T091500
DTSTAMP:20260421T072804
CREATED:20260420T154151Z
LAST-MODIFIED:20260420T154151Z
UID:166319-1780132500-1780132500@www.vvalverna.com
SUMMARY:Alverna JO9-1	- De Treffers JO9-1
DESCRIPTION:
URL:https://www.vvalverna.com/00/event/alverna-jo9-1-de-treffers-jo9-1/
CATEGORIES:Jeugd,Voetbal
END:VEVENT
BEGIN:VEVENT
DTSTART;TZID=Europe/Amsterdam:20260530T093000
DTEND;TZID=Europe/Amsterdam:20260530T093000
DTSTAMP:20260421T072804
CREATED:20260420T154220Z
LAST-MODIFIED:20260420T154220Z
UID:166321-1780133400-1780133400@www.vvalverna.com
SUMMARY:Diosa Niftrik JO8-1	Alverna JO8-1
DESCRIPTION:
URL:https://www.vvalverna.com/00/event/diosa-niftrik-jo8-1alverna-jo8-1/
CATEGORIES:Jeugd,Voetbal
END:VEVENT
BEGIN:VEVENT
DTSTART;TZID=Europe/Amsterdam:20260530T100000
DTEND;TZID=Europe/Amsterdam:20260530T100000
DTSTAMP:20260421T072804
CREATED:20260420T154253Z
LAST-MODIFIED:20260420T154253Z
UID:166323-1780135200-1780135200@www.vvalverna.com
SUMMARY:Arnhemse Boys JO11-1	- Alverna JO11-1
DESCRIPTION:
URL:https://www.vvalverna.com/00/event/arnhemse-boys-jo11-1-alverna-jo11-1/
CATEGORIES:Jeugd,Voetbal
END:VEVENT
END:VCALENDAR