BEGIN:VCALENDAR
VERSION:2.0
PRODID:-//Omnivereniging S.C. ALVERNA - ECPv6.15.15//NONSGML v1.0//EN
CALSCALE:GREGORIAN
METHOD:PUBLISH
X-WR-CALNAME:Omnivereniging S.C. ALVERNA
X-ORIGINAL-URL:https://www.vvalverna.com/00
X-WR-CALDESC:Evenementen voor Omnivereniging S.C. ALVERNA
REFRESH-INTERVAL;VALUE=DURATION:PT1H
X-Robots-Tag:noindex
X-PUBLISHED-TTL:PT1H
BEGIN:VTIMEZONE
TZID:Europe/Amsterdam
BEGIN:DAYLIGHT
TZOFFSETFROM:+0100
TZOFFSETTO:+0200
TZNAME:CEST
DTSTART:20240331T010000
END:DAYLIGHT
BEGIN:STANDARD
TZOFFSETFROM:+0200
TZOFFSETTO:+0100
TZNAME:CET
DTSTART:20241027T010000
END:STANDARD
BEGIN:DAYLIGHT
TZOFFSETFROM:+0100
TZOFFSETTO:+0200
TZNAME:CEST
DTSTART:20250330T010000
END:DAYLIGHT
BEGIN:STANDARD
TZOFFSETFROM:+0200
TZOFFSETTO:+0100
TZNAME:CET
DTSTART:20251026T010000
END:STANDARD
BEGIN:DAYLIGHT
TZOFFSETFROM:+0100
TZOFFSETTO:+0200
TZNAME:CEST
DTSTART:20260329T010000
END:DAYLIGHT
BEGIN:STANDARD
TZOFFSETFROM:+0200
TZOFFSETTO:+0100
TZNAME:CET
DTSTART:20261025T010000
END:STANDARD
END:VTIMEZONE
BEGIN:VEVENT
DTSTART;TZID=Europe/Amsterdam:20250913T090000
DTEND;TZID=Europe/Amsterdam:20250913T090000
DTSTAMP:20260421T211609
CREATED:20250813T180624Z
LAST-MODIFIED:20250813T180624Z
UID:164073-1757754000-1757754000@www.vvalverna.com
SUMMARY:Alverna JO11-2 - Beuningse Boys JO11-3
DESCRIPTION:
URL:https://www.vvalverna.com/00/event/alverna-jo11-2-beuningse-boys-jo11-3/
LOCATION:Sportpark\, Bospad 5\, Alverna
CATEGORIES:Jeugd
END:VEVENT
BEGIN:VEVENT
DTSTART;TZID=Europe/Amsterdam:20250913T090000
DTEND;TZID=Europe/Amsterdam:20250913T090000
DTSTAMP:20260421T211609
CREATED:20250813T181022Z
LAST-MODIFIED:20250813T181022Z
UID:164083-1757754000-1757754000@www.vvalverna.com
SUMMARY:Overasseltse Boys JO8-1 - Alverna JO8-1
DESCRIPTION:
URL:https://www.vvalverna.com/00/event/overasseltse-boys-jo8-1-alverna-jo8-1/
CATEGORIES:Jeugd
END:VEVENT
BEGIN:VEVENT
DTSTART;TZID=Europe/Amsterdam:20250913T090000
DTEND;TZID=Europe/Amsterdam:20250913T090000
DTSTAMP:20260421T211609
CREATED:20250909T144011Z
LAST-MODIFIED:20250909T144011Z
UID:165096-1757754000-1757754000@www.vvalverna.com
SUMMARY:Alverna JO11-1 - Spero JO11-1
DESCRIPTION:
URL:https://www.vvalverna.com/00/event/alverna-jo11-1-spero-jo11-1/
LOCATION:Sportpark\, Bospad 5\, Alverna
CATEGORIES:Jeugd
END:VEVENT
BEGIN:VEVENT
DTSTART;TZID=Europe/Amsterdam:20250913T091500
DTEND;TZID=Europe/Amsterdam:20250913T091500
DTSTAMP:20260421T211609
CREATED:20250813T180852Z
LAST-MODIFIED:20250813T180852Z
UID:164079-1757754900-1757754900@www.vvalverna.com
SUMMARY:Alverna JO10-2 - Woezik JO10-4JM
DESCRIPTION:
URL:https://www.vvalverna.com/00/event/alverna-jo10-2-woezik-jo10-4jm/
LOCATION:Sportpark\, Bospad 5\, Alverna
CATEGORIES:Jeugd
END:VEVENT
BEGIN:VEVENT
DTSTART;TZID=Europe/Amsterdam:20250913T091500
DTEND;TZID=Europe/Amsterdam:20250913T091500
DTSTAMP:20260421T211609
CREATED:20250813T180938Z
LAST-MODIFIED:20250813T180938Z
UID:164081-1757754900-1757754900@www.vvalverna.com
SUMMARY:Alverna JO9-1	- DVOL JO9-1
DESCRIPTION:
URL:https://www.vvalverna.com/00/event/alverna-jo9-1-dvol-jo9-1/
LOCATION:Sportpark\, Bospad 5\, Alverna
CATEGORIES:Jeugd
END:VEVENT
BEGIN:VEVENT
DTSTART;TZID=Europe/Amsterdam:20250913T101500
DTEND;TZID=Europe/Amsterdam:20250913T101500
DTSTAMP:20260421T211609
CREATED:20250813T180756Z
LAST-MODIFIED:20250903T054003Z
UID:164077-1757758500-1757758500@www.vvalverna.com
SUMMARY:Quick 1888 JO10-1 - Alverna JO10-1
DESCRIPTION:
URL:https://www.vvalverna.com/00/event/quick-1888-jo10-1-alverna-jo10-1/
CATEGORIES:Jeugd
END:VEVENT
BEGIN:VEVENT
DTSTART;TZID=Europe/Amsterdam:20250913T110000
DTEND;TZID=Europe/Amsterdam:20250913T110000
DTSTAMP:20260421T211609
CREATED:20250813T180235Z
LAST-MODIFIED:20250813T180235Z
UID:164063-1757761200-1757761200@www.vvalverna.com
SUMMARY:Eldenia JO15-1	-	Alverna JO15-1
DESCRIPTION:
URL:https://www.vvalverna.com/00/event/eldenia-jo15-1-alverna-jo15-1/
CATEGORIES:Jeugd
END:VEVENT
BEGIN:VEVENT
DTSTART;TZID=Europe/Amsterdam:20250913T110000
DTEND;TZID=Europe/Amsterdam:20250913T110000
DTSTAMP:20260421T211609
CREATED:20250813T180458Z
LAST-MODIFIED:20250813T180458Z
UID:164069-1757761200-1757761200@www.vvalverna.com
SUMMARY:Alverna JO13-1 - AWC JO13-2
DESCRIPTION:
URL:https://www.vvalverna.com/00/event/alverna-jo13-1-awc-jo13-2/
LOCATION:Sportpark\, Bospad 5\, Alverna
CATEGORIES:Jeugd
END:VEVENT
BEGIN:VEVENT
DTSTART;TZID=Europe/Amsterdam:20250913T110000
DTEND;TZID=Europe/Amsterdam:20250913T110000
DTSTAMP:20260421T211609
CREATED:20250813T180540Z
LAST-MODIFIED:20250813T180540Z
UID:164071-1757761200-1757761200@www.vvalverna.com
SUMMARY:Alverna JO13-2 - Leones JO13-1
DESCRIPTION:
URL:https://www.vvalverna.com/00/event/alverna-jo13-2-leones-jo13-1/
LOCATION:Sportpark\, Bospad 5\, Alverna
CATEGORIES:Jeugd
END:VEVENT
BEGIN:VEVENT
DTSTART;TZID=Europe/Amsterdam:20250913T120000
DTEND;TZID=Europe/Amsterdam:20250913T120000
DTSTAMP:20260421T211609
CREATED:20250813T180318Z
LAST-MODIFIED:20250813T180318Z
UID:164065-1757764800-1757764800@www.vvalverna.com
SUMMARY:AWC JO15-2	-	Alverna JO15-2
DESCRIPTION:
URL:https://www.vvalverna.com/00/event/awc-jo15-2-alverna-jo15-2/
CATEGORIES:Jeugd
END:VEVENT
BEGIN:VEVENT
DTSTART;TZID=Europe/Amsterdam:20250913T123000
DTEND;TZID=Europe/Amsterdam:20250913T123000
DTSTAMP:20260421T211609
CREATED:20250813T180402Z
LAST-MODIFIED:20250813T180402Z
UID:164067-1757766600-1757766600@www.vvalverna.com
SUMMARY:Alverna JO14-1 - AWC JO14-2
DESCRIPTION:
URL:https://www.vvalverna.com/00/event/alverna-jo14-1-awc-jo14-2/
LOCATION:Sportpark\, Bospad 5\, Alverna
CATEGORIES:Jeugd
END:VEVENT
BEGIN:VEVENT
DTSTART;TZID=Europe/Amsterdam:20250913T143000
DTEND;TZID=Europe/Amsterdam:20250913T143000
DTSTAMP:20260421T211609
CREATED:20250813T180105Z
LAST-MODIFIED:20250813T180105Z
UID:164059-1757773800-1757773800@www.vvalverna.com
SUMMARY:Alverna JO19-1 - Juliana '31 JO19-2
DESCRIPTION:
URL:https://www.vvalverna.com/00/event/alverna-jo19-1-juliana-31-jo19-2/
LOCATION:Sportpark\, Bospad 5\, Alverna
CATEGORIES:Jeugd
END:VEVENT
BEGIN:VEVENT
DTSTART;TZID=Europe/Amsterdam:20250913T150000
DTEND;TZID=Europe/Amsterdam:20250913T150000
DTSTAMP:20260421T211609
CREATED:20250813T175931Z
LAST-MODIFIED:20250813T180003Z
UID:164056-1757775600-1757775600@www.vvalverna.com
SUMMARY:Trekvogels zat 4 - Alverna zat 2
DESCRIPTION:
URL:https://www.vvalverna.com/00/event/trekvogels-4-alverna-2/
CATEGORIES:Jeugd
END:VEVENT
END:VCALENDAR