BEGIN:VCALENDAR
VERSION:2.0
PRODID:-//Omnivereniging S.C. ALVERNA - ECPv6.15.15//NONSGML v1.0//EN
CALSCALE:GREGORIAN
METHOD:PUBLISH
X-WR-CALNAME:Omnivereniging S.C. ALVERNA
X-ORIGINAL-URL:https://www.vvalverna.com/00
X-WR-CALDESC:Evenementen voor Omnivereniging S.C. ALVERNA
REFRESH-INTERVAL;VALUE=DURATION:PT1H
X-Robots-Tag:noindex
X-PUBLISHED-TTL:PT1H
BEGIN:VTIMEZONE
TZID:Europe/Amsterdam
BEGIN:DAYLIGHT
TZOFFSETFROM:+0100
TZOFFSETTO:+0200
TZNAME:CEST
DTSTART:20240331T010000
END:DAYLIGHT
BEGIN:STANDARD
TZOFFSETFROM:+0200
TZOFFSETTO:+0100
TZNAME:CET
DTSTART:20241027T010000
END:STANDARD
BEGIN:DAYLIGHT
TZOFFSETFROM:+0100
TZOFFSETTO:+0200
TZNAME:CEST
DTSTART:20250330T010000
END:DAYLIGHT
BEGIN:STANDARD
TZOFFSETFROM:+0200
TZOFFSETTO:+0100
TZNAME:CET
DTSTART:20251026T010000
END:STANDARD
BEGIN:DAYLIGHT
TZOFFSETFROM:+0100
TZOFFSETTO:+0200
TZNAME:CEST
DTSTART:20260329T010000
END:DAYLIGHT
BEGIN:STANDARD
TZOFFSETFROM:+0200
TZOFFSETTO:+0100
TZNAME:CET
DTSTART:20261025T010000
END:STANDARD
END:VTIMEZONE
BEGIN:VEVENT
DTSTART;TZID=Europe/Amsterdam:20251101T090000
DTEND;TZID=Europe/Amsterdam:20251101T090000
DTSTAMP:20260421T180320
CREATED:20251024T102016Z
LAST-MODIFIED:20251024T102016Z
UID:165532-1761987600-1761987600@www.vvalverna.com
SUMMARY:Union JO13-1	-	Alverna JO13-2
DESCRIPTION:
URL:https://www.vvalverna.com/00/event/union-jo13-1-alverna-jo13-2/
CATEGORIES:Jeugd,Voetbal
END:VEVENT
BEGIN:VEVENT
DTSTART;TZID=Europe/Amsterdam:20251101T090000
DTEND;TZID=Europe/Amsterdam:20251101T090000
DTSTAMP:20260421T180320
CREATED:20251024T102102Z
LAST-MODIFIED:20251024T102102Z
UID:165534-1761987600-1761987600@www.vvalverna.com
SUMMARY:Alverna JO11-1	-	DVC'26/Sprinkhanen JO11-1JM
DESCRIPTION:
URL:https://www.vvalverna.com/00/event/alverna-jo11-1-dvc26-sprinkhanen-jo11-1jm/
LOCATION:Sportpark\, Bospad 5\, Alverna
CATEGORIES:Jeugd,Voetbal
END:VEVENT
BEGIN:VEVENT
DTSTART;TZID=Europe/Amsterdam:20251101T091500
DTEND;TZID=Europe/Amsterdam:20251101T091500
DTSTAMP:20260421T180320
CREATED:20251024T102139Z
LAST-MODIFIED:20251024T102139Z
UID:165536-1761988500-1761988500@www.vvalverna.com
SUMMARY:Alverna JO10-1	-	Leones JO10-1
DESCRIPTION:
URL:https://www.vvalverna.com/00/event/alverna-jo10-1-leones-jo10-1/
LOCATION:Sportpark\, Bospad 5\, Alverna
CATEGORIES:Jeugd,Voetbal
END:VEVENT
BEGIN:VEVENT
DTSTART;TZID=Europe/Amsterdam:20251101T091500
DTEND;TZID=Europe/Amsterdam:20251101T091500
DTSTAMP:20260421T180320
CREATED:20251024T102238Z
LAST-MODIFIED:20251024T102407Z
UID:165538-1761988500-1761988500@www.vvalverna.com
SUMMARY:Alverna JO8-1	-	DVOL JO8-6JM
DESCRIPTION:
URL:https://www.vvalverna.com/00/event/alverna-jo10-1-leones-jo10-1-2/
LOCATION:Sportpark\, Bospad 5\, Alverna
CATEGORIES:Jeugd,Voetbal
END:VEVENT
BEGIN:VEVENT
DTSTART;TZID=Europe/Amsterdam:20251101T100000
DTEND;TZID=Europe/Amsterdam:20251101T100000
DTSTAMP:20260421T180320
CREATED:20251024T102441Z
LAST-MODIFIED:20251024T102441Z
UID:165542-1761991200-1761991200@www.vvalverna.com
SUMMARY:De Treffers JO10-5JM	-	Alverna JO10-2
DESCRIPTION:
URL:https://www.vvalverna.com/00/event/de-treffers-jo10-5jm-alverna-jo10-2/
CATEGORIES:Jeugd,Voetbal
END:VEVENT
BEGIN:VEVENT
DTSTART;TZID=Europe/Amsterdam:20251101T104500
DTEND;TZID=Europe/Amsterdam:20251101T104500
DTSTAMP:20260421T180320
CREATED:20251024T102526Z
LAST-MODIFIED:20251024T102526Z
UID:165544-1761993900-1761993900@www.vvalverna.com
SUMMARY:Alverna JO15-2	-	Beuningse Boys JO15-2
DESCRIPTION:
URL:https://www.vvalverna.com/00/event/alverna-jo15-2-beuningse-boys-jo15-2/
LOCATION:Sportpark\, Bospad 5\, Alverna
CATEGORIES:Jeugd,Voetbal
END:VEVENT
BEGIN:VEVENT
DTSTART;TZID=Europe/Amsterdam:20251101T110000
DTEND;TZID=Europe/Amsterdam:20251101T110000
DTSTAMP:20260421T180320
CREATED:20251024T102555Z
LAST-MODIFIED:20251024T102555Z
UID:165546-1761994800-1761994800@www.vvalverna.com
SUMMARY:SJO Diosa-Niftrik JO14-1	-	Alverna JO14-1
DESCRIPTION:
URL:https://www.vvalverna.com/00/event/sjo-diosa-niftrik-jo14-1-alverna-jo14-1/
CATEGORIES:Jeugd,Voetbal
END:VEVENT
BEGIN:VEVENT
DTSTART;TZID=Europe/Amsterdam:20251101T110000
DTEND;TZID=Europe/Amsterdam:20251101T110000
DTSTAMP:20260421T180320
CREATED:20251024T102630Z
LAST-MODIFIED:20251024T102630Z
UID:165548-1761994800-1761994800@www.vvalverna.com
SUMMARY:Alverna JO13-1	-	Oranje Blauw JO13-1
DESCRIPTION:
URL:https://www.vvalverna.com/00/event/alverna-jo13-1-oranje-blauw-jo13-1-2/
LOCATION:Sportpark\, Bospad 5\, Alverna
CATEGORIES:Jeugd,Voetbal
END:VEVENT
BEGIN:VEVENT
DTSTART;TZID=Europe/Amsterdam:20251101T122500
DTEND;TZID=Europe/Amsterdam:20251101T122500
DTSTAMP:20260421T180320
CREATED:20251024T102717Z
LAST-MODIFIED:20251024T102717Z
UID:165550-1761999900-1761999900@www.vvalverna.com
SUMMARY:Ewijk JO11-2	-	Alverna JO11-2
DESCRIPTION:
URL:https://www.vvalverna.com/00/event/ewijk-jo11-2-alverna-jo11-2/
CATEGORIES:Jeugd,Voetbal
END:VEVENT
BEGIN:VEVENT
DTSTART;TZID=Europe/Amsterdam:20251101T143000
DTEND;TZID=Europe/Amsterdam:20251101T143000
DTSTAMP:20260421T180320
CREATED:20251024T102834Z
LAST-MODIFIED:20251024T102834Z
UID:165554-1762007400-1762007400@www.vvalverna.com
SUMMARY:Alverna JO19-1	-	Juliana '31 JO19-2
DESCRIPTION:
URL:https://www.vvalverna.com/00/event/alverna-jo19-1-juliana-31-jo19-2-3/
LOCATION:Sportpark\, Bospad 5\, Alverna
CATEGORIES:Jeugd,Voetbal
END:VEVENT
END:VCALENDAR