BEGIN:VCALENDAR
VERSION:2.0
PRODID:-//Omnivereniging S.C. ALVERNA - ECPv6.15.15//NONSGML v1.0//EN
CALSCALE:GREGORIAN
METHOD:PUBLISH
X-WR-CALNAME:Omnivereniging S.C. ALVERNA
X-ORIGINAL-URL:https://www.vvalverna.com/00
X-WR-CALDESC:Evenementen voor Omnivereniging S.C. ALVERNA
REFRESH-INTERVAL;VALUE=DURATION:PT1H
X-Robots-Tag:noindex
X-PUBLISHED-TTL:PT1H
BEGIN:VTIMEZONE
TZID:Europe/Amsterdam
BEGIN:DAYLIGHT
TZOFFSETFROM:+0100
TZOFFSETTO:+0200
TZNAME:CEST
DTSTART:20240331T010000
END:DAYLIGHT
BEGIN:STANDARD
TZOFFSETFROM:+0200
TZOFFSETTO:+0100
TZNAME:CET
DTSTART:20241027T010000
END:STANDARD
BEGIN:DAYLIGHT
TZOFFSETFROM:+0100
TZOFFSETTO:+0200
TZNAME:CEST
DTSTART:20250330T010000
END:DAYLIGHT
BEGIN:STANDARD
TZOFFSETFROM:+0200
TZOFFSETTO:+0100
TZNAME:CET
DTSTART:20251026T010000
END:STANDARD
BEGIN:DAYLIGHT
TZOFFSETFROM:+0100
TZOFFSETTO:+0200
TZNAME:CEST
DTSTART:20260329T010000
END:DAYLIGHT
BEGIN:STANDARD
TZOFFSETFROM:+0200
TZOFFSETTO:+0100
TZNAME:CET
DTSTART:20261025T010000
END:STANDARD
END:VTIMEZONE
BEGIN:VEVENT
DTSTART;TZID=Europe/Amsterdam:20251115T083000
DTEND;TZID=Europe/Amsterdam:20251115T083000
DTSTAMP:20260421T180309
CREATED:20251109T083827Z
LAST-MODIFIED:20251109T083827Z
UID:165625-1763195400-1763195400@www.vvalverna.com
SUMMARY:Juliana '31 JO13-1	-	Alverna JO13-2
DESCRIPTION:
URL:https://www.vvalverna.com/00/event/juliana-31-jo13-1-alverna-jo13-2/
CATEGORIES:Jeugd,Voetbal
END:VEVENT
BEGIN:VEVENT
DTSTART;TZID=Europe/Amsterdam:20251115T090000
DTEND;TZID=Europe/Amsterdam:20251115T090000
DTSTAMP:20260421T180309
CREATED:20251109T083906Z
LAST-MODIFIED:20251113T122604Z
UID:165627-1763197200-1763197200@www.vvalverna.com
SUMMARY:Alverna JO11-1	-	DVOL JO11-1
DESCRIPTION:
URL:https://www.vvalverna.com/00/event/alverna-jo11-1-dvol-jo11-1/
LOCATION:Sportpark\, Bospad 5\, Alverna
CATEGORIES:Jeugd,Voetbal
END:VEVENT
BEGIN:VEVENT
DTSTART;TZID=Europe/Amsterdam:20251115T091500
DTEND;TZID=Europe/Amsterdam:20251115T091500
DTSTAMP:20260421T180309
CREATED:20251109T085127Z
LAST-MODIFIED:20251109T085127Z
UID:165657-1763198100-1763198100@www.vvalverna.com
SUMMARY:Alverna JO10-2	-	Heumen JO10-1
DESCRIPTION:
URL:https://www.vvalverna.com/00/event/alverna-jo10-2-heumen-jo10-1-2/
LOCATION:Sportpark\, Bospad 5\, Alverna
CATEGORIES:Jeugd,Voetbal
END:VEVENT
BEGIN:VEVENT
DTSTART;TZID=Europe/Amsterdam:20251115T091500
DTEND;TZID=Europe/Amsterdam:20251115T091500
DTSTAMP:20260421T180309
CREATED:20251109T085525Z
LAST-MODIFIED:20251109T085525Z
UID:165669-1763198100-1763198100@www.vvalverna.com
SUMMARY:Alverna JO8-1	-	SCE JO8-4
DESCRIPTION:
URL:https://www.vvalverna.com/00/event/alverna-jo8-1-sce-jo8-4-4/
LOCATION:Sportpark\, Bospad 5\, Alverna
CATEGORIES:Jeugd,Voetbal
END:VEVENT
BEGIN:VEVENT
DTSTART;TZID=Europe/Amsterdam:20251115T103000
DTEND;TZID=Europe/Amsterdam:20251115T103000
DTSTAMP:20260421T180309
CREATED:20251109T084051Z
LAST-MODIFIED:20251109T084051Z
UID:165633-1763202600-1763202600@www.vvalverna.com
SUMMARY:Heumen JO11-1	-	Alverna JO11-2
DESCRIPTION:
URL:https://www.vvalverna.com/00/event/heumen-jo11-1-alverna-jo11-2/
CATEGORIES:Jeugd,Voetbal
END:VEVENT
BEGIN:VEVENT
DTSTART;TZID=Europe/Amsterdam:20251115T103000
DTEND;TZID=Europe/Amsterdam:20251115T103000
DTSTAMP:20260421T180309
CREATED:20251109T084135Z
LAST-MODIFIED:20251109T084135Z
UID:165635-1763202600-1763202600@www.vvalverna.com
SUMMARY:DIO '30 JO9-2	-	Alverna JO9-1
DESCRIPTION:
URL:https://www.vvalverna.com/00/event/dio-30-jo9-2-alverna-jo9-1/
CATEGORIES:Jeugd,Voetbal
END:VEVENT
BEGIN:VEVENT
DTSTART;TZID=Europe/Amsterdam:20251115T110000
DTEND;TZID=Europe/Amsterdam:20251115T110000
DTSTAMP:20260421T180309
CREATED:20251109T084246Z
LAST-MODIFIED:20251109T084246Z
UID:165639-1763204400-1763204400@www.vvalverna.com
SUMMARY:Alverna JO13-1	-	Ewijk JO13-1
DESCRIPTION:
URL:https://www.vvalverna.com/00/event/alverna-jo13-1-ewijk-jo13-1/
LOCATION:Sportpark\, Bospad 5\, Alverna
CATEGORIES:Jeugd,Voetbal
END:VEVENT
BEGIN:VEVENT
DTSTART;TZID=Europe/Amsterdam:20251115T111500
DTEND;TZID=Europe/Amsterdam:20251115T111500
DTSTAMP:20260421T180309
CREATED:20251109T084325Z
LAST-MODIFIED:20251109T084325Z
UID:165641-1763205300-1763205300@www.vvalverna.com
SUMMARY:SKV JO15-2	-	Alverna JO15-2
DESCRIPTION:
URL:https://www.vvalverna.com/00/event/skv-jo15-2-alverna-jo15-2/
CATEGORIES:Jeugd,Voetbal
END:VEVENT
BEGIN:VEVENT
DTSTART;TZID=Europe/Amsterdam:20251115T113000
DTEND;TZID=Europe/Amsterdam:20251115T113000
DTSTAMP:20260421T180309
CREATED:20251109T084421Z
LAST-MODIFIED:20251109T084421Z
UID:165643-1763206200-1763206200@www.vvalverna.com
SUMMARY:SKV JO15-1JM	-	Alverna JO15-1
DESCRIPTION:
URL:https://www.vvalverna.com/00/event/skv-jo15-1jm-alverna-jo15-1/
CATEGORIES:Jeugd,Voetbal
END:VEVENT
BEGIN:VEVENT
DTSTART;TZID=Europe/Amsterdam:20251115T143000
DTEND;TZID=Europe/Amsterdam:20251115T143000
DTSTAMP:20260421T180309
CREATED:20251109T084506Z
LAST-MODIFIED:20251109T084506Z
UID:165645-1763217000-1763217000@www.vvalverna.com
SUMMARY:Alverna JO19-1	-	Union JO19-3JM
DESCRIPTION:
URL:https://www.vvalverna.com/00/event/alverna-jo19-1-union-jo19-3jm-2/
LOCATION:Sportpark\, Bospad 5\, Alverna
CATEGORIES:Jeugd,Voetbal
END:VEVENT
END:VCALENDAR