BEGIN:VCALENDAR
VERSION:2.0
PRODID:-//Omnivereniging S.C. ALVERNA - ECPv6.15.15//NONSGML v1.0//EN
CALSCALE:GREGORIAN
METHOD:PUBLISH
X-ORIGINAL-URL:https://www.vvalverna.com/00
X-WR-CALDESC:Evenementen voor Omnivereniging S.C. ALVERNA
REFRESH-INTERVAL;VALUE=DURATION:PT1H
X-Robots-Tag:noindex
X-PUBLISHED-TTL:PT1H
BEGIN:VTIMEZONE
TZID:Europe/Amsterdam
BEGIN:DAYLIGHT
TZOFFSETFROM:+0100
TZOFFSETTO:+0200
TZNAME:CEST
DTSTART:20240331T010000
END:DAYLIGHT
BEGIN:STANDARD
TZOFFSETFROM:+0200
TZOFFSETTO:+0100
TZNAME:CET
DTSTART:20241027T010000
END:STANDARD
BEGIN:DAYLIGHT
TZOFFSETFROM:+0100
TZOFFSETTO:+0200
TZNAME:CEST
DTSTART:20250330T010000
END:DAYLIGHT
BEGIN:STANDARD
TZOFFSETFROM:+0200
TZOFFSETTO:+0100
TZNAME:CET
DTSTART:20251026T010000
END:STANDARD
BEGIN:DAYLIGHT
TZOFFSETFROM:+0100
TZOFFSETTO:+0200
TZNAME:CEST
DTSTART:20260329T010000
END:DAYLIGHT
BEGIN:STANDARD
TZOFFSETFROM:+0200
TZOFFSETTO:+0100
TZNAME:CET
DTSTART:20261025T010000
END:STANDARD
END:VTIMEZONE
BEGIN:VEVENT
DTSTART;TZID=Europe/Amsterdam:20251213T090000
DTEND;TZID=Europe/Amsterdam:20251213T090000
DTSTAMP:20260421T163638
CREATED:20251204T125418Z
LAST-MODIFIED:20251204T125418Z
UID:165821-1765616400-1765616400@www.vvalverna.com
SUMMARY:SCE JO11-1	-	Alverna JO11-1
DESCRIPTION:
URL:https://www.vvalverna.com/00/event/sce-jo11-1-alverna-jo11-1-2/
CATEGORIES:Jeugd,Voetbal
END:VEVENT
BEGIN:VEVENT
DTSTART;TZID=Europe/Amsterdam:20251213T090000
DTEND;TZID=Europe/Amsterdam:20251213T090000
DTSTAMP:20260421T163638
CREATED:20251204T125451Z
LAST-MODIFIED:20251204T125451Z
UID:165823-1765616400-1765616400@www.vvalverna.com
SUMMARY:Alverna JO11-2	-	Blauw Wit JO11-2
DESCRIPTION:
URL:https://www.vvalverna.com/00/event/alverna-jo11-2-blauw-wit-jo11-2/
LOCATION:Sportpark\, Bospad 5\, Alverna
CATEGORIES:Jeugd,Voetbal
END:VEVENT
BEGIN:VEVENT
DTSTART;TZID=Europe/Amsterdam:20251213T091500
DTEND;TZID=Europe/Amsterdam:20251213T091500
DTSTAMP:20260421T163638
CREATED:20251204T125531Z
LAST-MODIFIED:20251204T125531Z
UID:165825-1765617300-1765617300@www.vvalverna.com
SUMMARY:Alverna JO10-2	-	AWC JO10-5
DESCRIPTION:
URL:https://www.vvalverna.com/00/event/alverna-jo10-2-awc-jo10-5/
LOCATION:Sportpark\, Bospad 5\, Alverna
CATEGORIES:Jeugd,Voetbal
END:VEVENT
BEGIN:VEVENT
DTSTART;TZID=Europe/Amsterdam:20251213T093000
DTEND;TZID=Europe/Amsterdam:20251213T093000
DTSTAMP:20260421T163638
CREATED:20251204T125635Z
LAST-MODIFIED:20251204T125635Z
UID:165829-1765618200-1765618200@www.vvalverna.com
SUMMARY:SJO Diosa-Niftrik JO8-1	-	Alverna JO8-1
DESCRIPTION:
URL:https://www.vvalverna.com/00/event/sjo-diosa-niftrik-jo8-1-alverna-jo8-1/
CATEGORIES:Jeugd,Voetbal
END:VEVENT
BEGIN:VEVENT
DTSTART;TZID=Europe/Amsterdam:20251213T103000
DTEND;TZID=Europe/Amsterdam:20251213T103000
DTSTAMP:20260421T163638
CREATED:20251204T125314Z
LAST-MODIFIED:20251204T125314Z
UID:165817-1765621800-1765621800@www.vvalverna.com
SUMMARY:Heumen JO13-1	-	Alverna JO13-1
DESCRIPTION:
URL:https://www.vvalverna.com/00/event/heumen-jo13-1-alverna-jo13-1/
CATEGORIES:Jeugd,Voetbal
END:VEVENT
BEGIN:VEVENT
DTSTART;TZID=Europe/Amsterdam:20251213T103000
DTEND;TZID=Europe/Amsterdam:20251213T103000
DTSTAMP:20260421T163638
CREATED:20251204T125602Z
LAST-MODIFIED:20251204T125602Z
UID:165827-1765621800-1765621800@www.vvalverna.com
SUMMARY:DIO '30 JO9-1	-	Alverna JO9-1
DESCRIPTION:
URL:https://www.vvalverna.com/00/event/dio-30-jo9-1-alverna-jo9-1/
CATEGORIES:Jeugd,Voetbal
END:VEVENT
BEGIN:VEVENT
DTSTART;TZID=Europe/Amsterdam:20251213T104500
DTEND;TZID=Europe/Amsterdam:20251213T104500
DTSTAMP:20260421T163638
CREATED:20251204T125351Z
LAST-MODIFIED:20251204T125351Z
UID:165819-1765622700-1765622700@www.vvalverna.com
SUMMARY:Alverna JO13-2	-	Spero JO13-1
DESCRIPTION:
URL:https://www.vvalverna.com/00/event/alverna-jo13-2-spero-jo13-1/
LOCATION:Sportpark\, Bospad 5\, Alverna
CATEGORIES:Jeugd,Voetbal
END:VEVENT
BEGIN:VEVENT
DTSTART;TZID=Europe/Amsterdam:20251213T123000
DTEND;TZID=Europe/Amsterdam:20251213T123000
DTSTAMP:20260421T163638
CREATED:20251204T125247Z
LAST-MODIFIED:20251211T082519Z
UID:165815-1765629000-1765629000@www.vvalverna.com
SUMMARY:Alverna JO14-1	-	Nijmegen JO14-2
DESCRIPTION:
URL:https://www.vvalverna.com/00/event/alverna-jo14-1-nijmegen-jo14-2/
LOCATION:Sportpark\, Bospad 5\, Alverna
CATEGORIES:Jeugd,Voetbal
END:VEVENT
BEGIN:VEVENT
DTSTART;TZID=Europe/Amsterdam:20251213T124500
DTEND;TZID=Europe/Amsterdam:20251213T124500
DTSTAMP:20260421T163638
CREATED:20251204T125219Z
LAST-MODIFIED:20251204T125219Z
UID:165813-1765629900-1765629900@www.vvalverna.com
SUMMARY:Leones JO15-1	-	Alverna JO15-2
DESCRIPTION:
URL:https://www.vvalverna.com/00/event/leones-jo15-1-alverna-jo15-2/
CATEGORIES:Jeugd,Voetbal
END:VEVENT
BEGIN:VEVENT
DTSTART;TZID=Europe/Amsterdam:20251213T143000
DTEND;TZID=Europe/Amsterdam:20251213T143000
DTSTAMP:20260421T163638
CREATED:20251204T125141Z
LAST-MODIFIED:20251204T125141Z
UID:165811-1765636200-1765636200@www.vvalverna.com
SUMMARY:Bemmel SC JO19-3	-	Alverna JO19-1
DESCRIPTION:
URL:https://www.vvalverna.com/00/event/bemmel-sc-jo19-3-alverna-jo19-1-2/
CATEGORIES:Jeugd,Voetbal
END:VEVENT
END:VCALENDAR