BEGIN:VCALENDAR
VERSION:2.0
PRODID:-//Omnivereniging S.C. ALVERNA - ECPv6.15.15//NONSGML v1.0//EN
CALSCALE:GREGORIAN
METHOD:PUBLISH
X-WR-CALNAME:Omnivereniging S.C. ALVERNA
X-ORIGINAL-URL:https://www.vvalverna.com/00
X-WR-CALDESC:Evenementen voor Omnivereniging S.C. ALVERNA
REFRESH-INTERVAL;VALUE=DURATION:PT1H
X-Robots-Tag:noindex
X-PUBLISHED-TTL:PT1H
BEGIN:VTIMEZONE
TZID:Europe/Amsterdam
BEGIN:DAYLIGHT
TZOFFSETFROM:+0100
TZOFFSETTO:+0200
TZNAME:CEST
DTSTART:20250330T010000
END:DAYLIGHT
BEGIN:STANDARD
TZOFFSETFROM:+0200
TZOFFSETTO:+0100
TZNAME:CET
DTSTART:20251026T010000
END:STANDARD
BEGIN:DAYLIGHT
TZOFFSETFROM:+0100
TZOFFSETTO:+0200
TZNAME:CEST
DTSTART:20260329T010000
END:DAYLIGHT
BEGIN:STANDARD
TZOFFSETFROM:+0200
TZOFFSETTO:+0100
TZNAME:CET
DTSTART:20261025T010000
END:STANDARD
BEGIN:DAYLIGHT
TZOFFSETFROM:+0100
TZOFFSETTO:+0200
TZNAME:CEST
DTSTART:20270328T010000
END:DAYLIGHT
BEGIN:STANDARD
TZOFFSETFROM:+0200
TZOFFSETTO:+0100
TZNAME:CET
DTSTART:20271031T010000
END:STANDARD
END:VTIMEZONE
BEGIN:VEVENT
DTSTART;TZID=Europe/Amsterdam:20260124T083000
DTEND;TZID=Europe/Amsterdam:20260124T083000
DTSTAMP:20260421T164110
CREATED:20260115T165130Z
LAST-MODIFIED:20260119T115609Z
UID:165889-1769243400-1769243400@www.vvalverna.com
SUMMARY:AWC JO11-1	-	Alverna JO11-1
DESCRIPTION:
URL:https://www.vvalverna.com/00/event/awc-jo11-1-alverna-jo11-1/
CATEGORIES:Jeugd,Voetbal
END:VEVENT
BEGIN:VEVENT
DTSTART;TZID=Europe/Amsterdam:20260124T091500
DTEND;TZID=Europe/Amsterdam:20260124T091500
DTSTAMP:20260421T164110
CREATED:20260115T165304Z
LAST-MODIFIED:20260115T165304Z
UID:165895-1769246100-1769246100@www.vvalverna.com
SUMMARY:Alverna JO9-1	-	Quick 1888 JO9-1
DESCRIPTION:
URL:https://www.vvalverna.com/00/event/alverna-jo9-1-quick-1888-jo9-1-2/
LOCATION:Sportpark\, Bospad 5\, Alverna
CATEGORIES:Jeugd,Voetbal
END:VEVENT
BEGIN:VEVENT
DTSTART;TZID=Europe/Amsterdam:20260124T091500
DTEND;TZID=Europe/Amsterdam:20260124T091500
DTSTAMP:20260421T164110
CREATED:20260115T165351Z
LAST-MODIFIED:20260115T165351Z
UID:165897-1769246100-1769246100@www.vvalverna.com
SUMMARY:Alverna JO8-1	-	SJO Victoria-SCD JO8-1JM
DESCRIPTION:
URL:https://www.vvalverna.com/00/event/alverna-jo8-1-sjo-victoria-scd-jo8-1jm/
LOCATION:Sportpark\, Bospad 5\, Alverna
CATEGORIES:Jeugd,Voetbal
END:VEVENT
BEGIN:VEVENT
DTSTART;TZID=Europe/Amsterdam:20260124T100000
DTEND;TZID=Europe/Amsterdam:20260124T100000
DTSTAMP:20260421T164110
CREATED:20260115T165046Z
LAST-MODIFIED:20260115T165046Z
UID:165887-1769248800-1769248800@www.vvalverna.com
SUMMARY:DVOV JO13-1	-	Alverna JO13-2
DESCRIPTION:
URL:https://www.vvalverna.com/00/event/dvov-jo13-1-alverna-jo13-2/
CATEGORIES:Jeugd,Voetbal
END:VEVENT
BEGIN:VEVENT
DTSTART;TZID=Europe/Amsterdam:20260124T100000
DTEND;TZID=Europe/Amsterdam:20260124T100000
DTSTAMP:20260421T164110
CREATED:20260115T165158Z
LAST-MODIFIED:20260115T165158Z
UID:165891-1769248800-1769248800@www.vvalverna.com
SUMMARY:Ewijk JO11-1	-	Alverna JO11-2
DESCRIPTION:
URL:https://www.vvalverna.com/00/event/ewijk-jo11-1-alverna-jo11-2-2/
CATEGORIES:Jeugd,Voetbal
END:VEVENT
BEGIN:VEVENT
DTSTART;TZID=Europe/Amsterdam:20260124T100000
DTEND;TZID=Europe/Amsterdam:20260124T170000
DTSTAMP:20260421T164110
CREATED:20260115T165221Z
LAST-MODIFIED:20260115T165221Z
UID:165893-1769248800-1769274000@www.vvalverna.com
SUMMARY:Woezik JO10-3JM	-	Alverna JO10-2
DESCRIPTION:
URL:https://www.vvalverna.com/00/event/woezik-jo10-3jm-alverna-jo10-2/
CATEGORIES:Jeugd,Voetbal
END:VEVENT
END:VCALENDAR