BEGIN:VCALENDAR
VERSION:2.0
PRODID:-//Omnivereniging S.C. ALVERNA - ECPv6.15.15//NONSGML v1.0//EN
CALSCALE:GREGORIAN
METHOD:PUBLISH
X-WR-CALNAME:Omnivereniging S.C. ALVERNA
X-ORIGINAL-URL:https://www.vvalverna.com/00
X-WR-CALDESC:Evenementen voor Omnivereniging S.C. ALVERNA
REFRESH-INTERVAL;VALUE=DURATION:PT1H
X-Robots-Tag:noindex
X-PUBLISHED-TTL:PT1H
BEGIN:VTIMEZONE
TZID:Europe/Amsterdam
BEGIN:DAYLIGHT
TZOFFSETFROM:+0100
TZOFFSETTO:+0200
TZNAME:CEST
DTSTART:20240331T010000
END:DAYLIGHT
BEGIN:STANDARD
TZOFFSETFROM:+0200
TZOFFSETTO:+0100
TZNAME:CET
DTSTART:20241027T010000
END:STANDARD
BEGIN:DAYLIGHT
TZOFFSETFROM:+0100
TZOFFSETTO:+0200
TZNAME:CEST
DTSTART:20250330T010000
END:DAYLIGHT
BEGIN:STANDARD
TZOFFSETFROM:+0200
TZOFFSETTO:+0100
TZNAME:CET
DTSTART:20251026T010000
END:STANDARD
BEGIN:DAYLIGHT
TZOFFSETFROM:+0100
TZOFFSETTO:+0200
TZNAME:CEST
DTSTART:20260329T010000
END:DAYLIGHT
BEGIN:STANDARD
TZOFFSETFROM:+0200
TZOFFSETTO:+0100
TZNAME:CET
DTSTART:20261025T010000
END:STANDARD
END:VTIMEZONE
BEGIN:VEVENT
DTSTART;TZID=Europe/Amsterdam:20251004T143000
DTEND;TZID=Europe/Amsterdam:20251004T143000
DTSTAMP:20260421T191535
CREATED:20250925T120009Z
LAST-MODIFIED:20250925T120009Z
UID:165256-1759588200-1759588200@www.vvalverna.com
SUMMARY:Alverna 2	-	Nijmegen 3
DESCRIPTION:
URL:https://www.vvalverna.com/00/event/alverna-2-nijmegen-3/
LOCATION:Sportpark\, Bospad 5\, Alverna
CATEGORIES:Voetbal
END:VEVENT
BEGIN:VEVENT
DTSTART;TZID=Europe/Amsterdam:20251005T103000
DTEND;TZID=Europe/Amsterdam:20251005T103000
DTSTAMP:20260421T191535
CREATED:20250925T120239Z
LAST-MODIFIED:20250925T120239Z
UID:165260-1759660200-1759660200@www.vvalverna.com
SUMMARY:Alverna 3	-	Trekvogels 9
DESCRIPTION:
URL:https://www.vvalverna.com/00/event/alverna-3-trekvogels-9/
LOCATION:Sportpark\, Bospad 5\, Alverna
CATEGORIES:Voetbal
END:VEVENT
BEGIN:VEVENT
DTSTART;TZID=Europe/Amsterdam:20251005T120000
DTEND;TZID=Europe/Amsterdam:20251005T120000
DTSTAMP:20260421T191535
CREATED:20250925T120317Z
LAST-MODIFIED:20250925T120317Z
UID:165262-1759665600-1759665600@www.vvalverna.com
SUMMARY:Alverna VR1	-	Juliana Mill VR1
DESCRIPTION:
URL:https://www.vvalverna.com/00/event/alverna-vr1-juliana-mill-vr1/
LOCATION:Sportpark\, Bospad 5\, Alverna
CATEGORIES:Voetbal
END:VEVENT
BEGIN:VEVENT
DTSTART;TZID=Europe/Amsterdam:20251005T140000
DTEND;TZID=Europe/Amsterdam:20251005T140000
DTSTAMP:20260421T191535
CREATED:20250925T120206Z
LAST-MODIFIED:20250925T120206Z
UID:165258-1759672800-1759672800@www.vvalverna.com
SUMMARY:VDS'25 1	-	Alverna 1
DESCRIPTION:
URL:https://www.vvalverna.com/00/event/vds25-1-alverna-1/
CATEGORIES:Voetbal
END:VEVENT
BEGIN:VEVENT
DTSTART;TZID=Europe/Amsterdam:20251011T160000
DTEND;TZID=Europe/Amsterdam:20251011T160000
DTSTAMP:20260421T191535
CREATED:20251002T154942Z
LAST-MODIFIED:20251002T154942Z
UID:165422-1760198400-1760198400@www.vvalverna.com
SUMMARY:Eendracht '30 4	-	Alverna 2
DESCRIPTION:
URL:https://www.vvalverna.com/00/event/eendracht-30-4-alverna-2/
CATEGORIES:Voetbal
END:VEVENT
BEGIN:VEVENT
DTSTART;TZID=Europe/Amsterdam:20251012T110000
DTEND;TZID=Europe/Amsterdam:20251012T110000
DTSTAMP:20260421T191535
CREATED:20251002T155049Z
LAST-MODIFIED:20251002T155049Z
UID:165424-1760266800-1760266800@www.vvalverna.com
SUMMARY:DIOSA 5	-	Alverna 3
DESCRIPTION:
URL:https://www.vvalverna.com/00/event/diosa-5-alverna-3/
CATEGORIES:Voetbal
END:VEVENT
BEGIN:VEVENT
DTSTART;TZID=Europe/Amsterdam:20251012T120000
DTEND;TZID=Europe/Amsterdam:20251012T120000
DTSTAMP:20260421T191535
CREATED:20250926T174244Z
LAST-MODIFIED:20250926T174244Z
UID:165279-1760270400-1760270400@www.vvalverna.com
SUMMARY:Trekvogels VR 1 - Alverna VR 1
DESCRIPTION:
URL:https://www.vvalverna.com/00/event/trekvogels-vr-1-alverna-vr-1/
CATEGORIES:Voetbal
END:VEVENT
BEGIN:VEVENT
DTSTART;TZID=Europe/Amsterdam:20251012T143000
DTEND;TZID=Europe/Amsterdam:20251012T143000
DTSTAMP:20260421T191535
CREATED:20250926T174537Z
LAST-MODIFIED:20250926T192348Z
UID:165283-1760279400-1760279400@www.vvalverna.com
SUMMARY:Alverna 1 - Avios/DBV 1
DESCRIPTION:
URL:https://www.vvalverna.com/00/event/alverna-1-avios-dbv-1/
LOCATION:Sportpark\, Bospad 5\, Alverna
CATEGORIES:Voetbal
END:VEVENT
BEGIN:VEVENT
DTSTART;TZID=Europe/Amsterdam:20251018T090000
DTEND;TZID=Europe/Amsterdam:20251018T090000
DTSTAMP:20260421T191535
CREATED:20251008T155049Z
LAST-MODIFIED:20251008T155049Z
UID:165443-1760778000-1760778000@www.vvalverna.com
SUMMARY:Unitas '28 JO13-1JM	-	Alverna JO13-2
DESCRIPTION:
URL:https://www.vvalverna.com/00/event/unitas-28-jo13-1jm-alverna-jo13-2/
CATEGORIES:Jeugd,Voetbal
END:VEVENT
BEGIN:VEVENT
DTSTART;TZID=Europe/Amsterdam:20251018T104500
DTEND;TZID=Europe/Amsterdam:20251018T170000
DTSTAMP:20260421T191535
CREATED:20251008T154953Z
LAST-MODIFIED:20251008T154953Z
UID:165441-1760784300-1760806800@www.vvalverna.com
SUMMARY:OSC JO15-1	-	Alverna JO15-2
DESCRIPTION:
URL:https://www.vvalverna.com/00/event/osc-jo15-1-alverna-jo15-2/
CATEGORIES:Jeugd,Voetbal
END:VEVENT
BEGIN:VEVENT
DTSTART;TZID=Europe/Amsterdam:20251018T123000
DTEND;TZID=Europe/Amsterdam:20251018T123000
DTSTAMP:20260421T191535
CREATED:20251016T110057Z
LAST-MODIFIED:20251016T111149Z
UID:165482-1760790600-1760790600@www.vvalverna.com
SUMMARY:Brakkenstein JO15-1	-	Alverna JO15-1
DESCRIPTION:
URL:https://www.vvalverna.com/00/event/brakkenstein-jo15-1-alverna-jo15-1-2/
CATEGORIES:Jeugd,Voetbal
END:VEVENT
BEGIN:VEVENT
DTSTART;TZID=Europe/Amsterdam:20251018T170000
DTEND;TZID=Europe/Amsterdam:20251018T170000
DTSTAMP:20260421T191535
CREATED:20251008T154906Z
LAST-MODIFIED:20251008T154906Z
UID:165439-1760806800-1760806800@www.vvalverna.com
SUMMARY:17:00	Alverna VR1	-	VDZ VR1
DESCRIPTION:
URL:https://www.vvalverna.com/00/event/1700alverna-vr1-vdz-vr1/
LOCATION:Sportpark\, Bospad 5\, Alverna
CATEGORIES:Voetbal
END:VEVENT
BEGIN:VEVENT
DTSTART;TZID=Europe/Amsterdam:20251019T103000
DTEND;TZID=Europe/Amsterdam:20251019T103000
DTSTAMP:20260421T191535
CREATED:20251008T155128Z
LAST-MODIFIED:20251008T155128Z
UID:165445-1760869800-1760869800@www.vvalverna.com
SUMMARY:Alverna 3	-	Trekvogels 9
DESCRIPTION:
URL:https://www.vvalverna.com/00/event/alverna-3-trekvogels-9-2/
LOCATION:Sportpark\, Bospad 5\, Alverna
CATEGORIES:Voetbal
END:VEVENT
BEGIN:VEVENT
DTSTART;TZID=Europe/Amsterdam:20251019T143000
DTEND;TZID=Europe/Amsterdam:20251019T143000
DTSTAMP:20260421T191535
CREATED:20250926T173753Z
LAST-MODIFIED:20250926T173753Z
UID:165277-1760884200-1760884200@www.vvalverna.com
SUMMARY:Alverna 1 - Activia 1
DESCRIPTION:Beker
URL:https://www.vvalverna.com/00/event/alverna-1-activia-1/
LOCATION:Sportpark\, Bospad 5\, Alverna
CATEGORIES:Voetbal
END:VEVENT
BEGIN:VEVENT
DTSTART;TZID=Europe/Amsterdam:20251020T183000
DTEND;TZID=Europe/Amsterdam:20251020T183000
DTSTAMP:20260421T191536
CREATED:20251016T110141Z
LAST-MODIFIED:20251016T110141Z
UID:165484-1760985000-1760985000@www.vvalverna.com
SUMMARY:Alverna JO10-2	-	Ewijk JO10-2
DESCRIPTION:
URL:https://www.vvalverna.com/00/event/alverna-jo10-2-ewijk-jo10-2-2/
LOCATION:Sportpark\, Bospad 5\, Alverna
CATEGORIES:Jeugd,Voetbal
END:VEVENT
BEGIN:VEVENT
DTSTART;TZID=Europe/Amsterdam:20251024T000000
DTEND;TZID=Europe/Amsterdam:20251024T000000
DTSTAMP:20260421T191536
CREATED:20251024T103422Z
LAST-MODIFIED:20251024T103422Z
UID:165561-1761264000-1761264000@www.vvalverna.com
SUMMARY:Toernooi JO9
DESCRIPTION:
URL:https://www.vvalverna.com/00/event/toernooi-jo9/
LOCATION:Sportpark\, Bospad 5\, Alverna
CATEGORIES:Jeugd,Voetbal
END:VEVENT
BEGIN:VEVENT
DTSTART;TZID=Europe/Amsterdam:20251025T100000
DTEND;TZID=Europe/Amsterdam:20251025T100000
DTSTAMP:20260421T191536
CREATED:20251016T110925Z
LAST-MODIFIED:20251016T110925Z
UID:165487-1761386400-1761386400@www.vvalverna.com
SUMMARY:Brakkenstein JO10-1	-	Alverna JO10-1
DESCRIPTION:
URL:https://www.vvalverna.com/00/event/brakkenstein-jo10-1-alverna-jo10-1-2/
CATEGORIES:Jeugd,Voetbal
END:VEVENT
BEGIN:VEVENT
DTSTART;TZID=Europe/Amsterdam:20251025T121500
DTEND;TZID=Europe/Amsterdam:20251025T121500
DTSTAMP:20260421T191536
CREATED:20251016T130554Z
LAST-MODIFIED:20251016T130554Z
UID:165490-1761394500-1761394500@www.vvalverna.com
SUMMARY:Brakkenstein JO15-1	-	Alverna JO15-1
DESCRIPTION:
URL:https://www.vvalverna.com/00/event/brakkenstein-jo15-1-alverna-jo15-1-3/
CATEGORIES:Jeugd,Voetbal
END:VEVENT
BEGIN:VEVENT
DTSTART;TZID=Europe/Amsterdam:20251026T103000
DTEND;TZID=Europe/Amsterdam:20251026T103000
DTSTAMP:20260421T191536
CREATED:20251008T155307Z
LAST-MODIFIED:20251008T155307Z
UID:165449-1761474600-1761474600@www.vvalverna.com
SUMMARY:Alverna 3	-	Overasseltse Boys 4
DESCRIPTION:
URL:https://www.vvalverna.com/00/event/alverna-3-overasseltse-boys-4/
LOCATION:Sportpark\, Bospad 5\, Alverna
CATEGORIES:Voetbal
END:VEVENT
BEGIN:VEVENT
DTSTART;TZID=Europe/Amsterdam:20251026T120000
DTEND;TZID=Europe/Amsterdam:20251026T120000
DTSTAMP:20260421T191536
CREATED:20250926T174337Z
LAST-MODIFIED:20250926T174337Z
UID:165281-1761480000-1761480000@www.vvalverna.com
SUMMARY:Alverna VR 1 - ZSV VR 1
DESCRIPTION:
URL:https://www.vvalverna.com/00/event/alverna-vr-1-zsv-vr-1/
LOCATION:Sportpark\, Bospad 5\, Alverna
CATEGORIES:Voetbal
END:VEVENT
BEGIN:VEVENT
DTSTART;TZID=Europe/Amsterdam:20251026T140000
DTEND;TZID=Europe/Amsterdam:20251026T140000
DTSTAMP:20260421T191536
CREATED:20250926T174638Z
LAST-MODIFIED:20250926T192303Z
UID:165285-1761487200-1761487200@www.vvalverna.com
SUMMARY:Niftrik 1 - Alverna 1
DESCRIPTION:
URL:https://www.vvalverna.com/00/event/niftrik-1-alverna-1/
CATEGORIES:Voetbal
END:VEVENT
END:VCALENDAR