BEGIN:VCALENDAR
VERSION:2.0
PRODID:-//Omnivereniging S.C. ALVERNA - ECPv6.15.15//NONSGML v1.0//EN
CALSCALE:GREGORIAN
METHOD:PUBLISH
X-ORIGINAL-URL:https://www.vvalverna.com/00
X-WR-CALDESC:Evenementen voor Omnivereniging S.C. ALVERNA
REFRESH-INTERVAL;VALUE=DURATION:PT1H
X-Robots-Tag:noindex
X-PUBLISHED-TTL:PT1H
BEGIN:VTIMEZONE
TZID:Europe/Amsterdam
BEGIN:DAYLIGHT
TZOFFSETFROM:+0100
TZOFFSETTO:+0200
TZNAME:CEST
DTSTART:20240331T010000
END:DAYLIGHT
BEGIN:STANDARD
TZOFFSETFROM:+0200
TZOFFSETTO:+0100
TZNAME:CET
DTSTART:20241027T010000
END:STANDARD
BEGIN:DAYLIGHT
TZOFFSETFROM:+0100
TZOFFSETTO:+0200
TZNAME:CEST
DTSTART:20250330T010000
END:DAYLIGHT
BEGIN:STANDARD
TZOFFSETFROM:+0200
TZOFFSETTO:+0100
TZNAME:CET
DTSTART:20251026T010000
END:STANDARD
BEGIN:DAYLIGHT
TZOFFSETFROM:+0100
TZOFFSETTO:+0200
TZNAME:CEST
DTSTART:20260329T010000
END:DAYLIGHT
BEGIN:STANDARD
TZOFFSETFROM:+0200
TZOFFSETTO:+0100
TZNAME:CET
DTSTART:20261025T010000
END:STANDARD
END:VTIMEZONE
BEGIN:VEVENT
DTSTART;TZID=Europe/Amsterdam:20250831T103000
DTEND;TZID=Europe/Amsterdam:20250831T103000
DTSTAMP:20260421T224210
CREATED:20250812T151252Z
LAST-MODIFIED:20250812T151252Z
UID:163956-1756636200-1756636200@www.vvalverna.com
SUMMARY:Alverna 3 - DSZ 3
DESCRIPTION:Beker
URL:https://www.vvalverna.com/00/event/alverna-3-dsz-3/
LOCATION:Sportpark\, Bospad 5\, Alverna
CATEGORIES:Voetbal
END:VEVENT
BEGIN:VEVENT
DTSTART;TZID=Europe/Amsterdam:20250831T113000
DTEND;TZID=Europe/Amsterdam:20250831T113000
DTSTAMP:20260421T224211
CREATED:20250811T185540Z
LAST-MODIFIED:20250811T192454Z
UID:163920-1756639800-1756639800@www.vvalverna.com
SUMMARY:FC Dinxperlo VR1 -	Alverna VR1
DESCRIPTION:Beker
URL:https://www.vvalverna.com/00/event/fc-dinxperlo-vr1-alverna-vr1/
CATEGORIES:Voetbal
END:VEVENT
BEGIN:VEVENT
DTSTART;TZID=Europe/Amsterdam:20250831T120000
DTEND;TZID=Europe/Amsterdam:20250831T120000
DTSTAMP:20260421T224211
CREATED:20250812T151104Z
LAST-MODIFIED:20250812T151104Z
UID:163953-1756641600-1756641600@www.vvalverna.com
SUMMARY:AWC 3 - Alverna 2
DESCRIPTION:Beker
URL:https://www.vvalverna.com/00/event/awc-3-alverna-2/
CATEGORIES:Voetbal
END:VEVENT
BEGIN:VEVENT
DTSTART;TZID=Europe/Amsterdam:20250831T140000
DTEND;TZID=Europe/Amsterdam:20250831T140000
DTSTAMP:20260421T224211
CREATED:20250811T185642Z
LAST-MODIFIED:20250811T190635Z
UID:163922-1756648800-1756648800@www.vvalverna.com
SUMMARY:AAC-Olympia 1 - Alverna 1
DESCRIPTION:Beker
URL:https://www.vvalverna.com/00/event/aac-olympia-1-alverna-1/
CATEGORIES:Voetbal
END:VEVENT
END:VCALENDAR