BEGIN:VCALENDAR
VERSION:2.0
PRODID:-//Omnivereniging S.C. ALVERNA - ECPv6.15.15//NONSGML v1.0//EN
CALSCALE:GREGORIAN
METHOD:PUBLISH
X-WR-CALNAME:Omnivereniging S.C. ALVERNA
X-ORIGINAL-URL:https://www.vvalverna.com/00
X-WR-CALDESC:Evenementen voor Omnivereniging S.C. ALVERNA
REFRESH-INTERVAL;VALUE=DURATION:PT1H
X-Robots-Tag:noindex
X-PUBLISHED-TTL:PT1H
BEGIN:VTIMEZONE
TZID:Europe/Amsterdam
BEGIN:DAYLIGHT
TZOFFSETFROM:+0100
TZOFFSETTO:+0200
TZNAME:CEST
DTSTART:20240331T010000
END:DAYLIGHT
BEGIN:STANDARD
TZOFFSETFROM:+0200
TZOFFSETTO:+0100
TZNAME:CET
DTSTART:20241027T010000
END:STANDARD
BEGIN:DAYLIGHT
TZOFFSETFROM:+0100
TZOFFSETTO:+0200
TZNAME:CEST
DTSTART:20250330T010000
END:DAYLIGHT
BEGIN:STANDARD
TZOFFSETFROM:+0200
TZOFFSETTO:+0100
TZNAME:CET
DTSTART:20251026T010000
END:STANDARD
BEGIN:DAYLIGHT
TZOFFSETFROM:+0100
TZOFFSETTO:+0200
TZNAME:CEST
DTSTART:20260329T010000
END:DAYLIGHT
BEGIN:STANDARD
TZOFFSETFROM:+0200
TZOFFSETTO:+0100
TZNAME:CET
DTSTART:20261025T010000
END:STANDARD
END:VTIMEZONE
BEGIN:VEVENT
DTSTART;TZID=Europe/Amsterdam:20250928T093000
DTEND;TZID=Europe/Amsterdam:20250928T093000
DTSTAMP:20260421T224137
CREATED:20250918T152405Z
LAST-MODIFIED:20250918T152405Z
UID:165216-1759051800-1759051800@www.vvalverna.com
SUMMARY:SCE 4	-	Alverna 3
DESCRIPTION:
URL:https://www.vvalverna.com/00/event/sce-4-alverna-3-2/
CATEGORIES:Voetbal
END:VEVENT
BEGIN:VEVENT
DTSTART;TZID=Europe/Amsterdam:20250928T113000
DTEND;TZID=Europe/Amsterdam:20250928T113000
DTSTAMP:20260421T224137
CREATED:20250918T152453Z
LAST-MODIFIED:20250918T152453Z
UID:165218-1759059000-1759059000@www.vvalverna.com
SUMMARY:Vitesse'08 VR1	-	Alverna VR1
DESCRIPTION:
URL:https://www.vvalverna.com/00/event/vitesse08-vr1-alverna-vr1/
CATEGORIES:Voetbal
END:VEVENT
BEGIN:VEVENT
DTSTART;TZID=Europe/Amsterdam:20250928T143000
DTEND;TZID=Europe/Amsterdam:20250928T143000
DTSTAMP:20260421T224137
CREATED:20250811T193348Z
LAST-MODIFIED:20250811T193439Z
UID:163944-1759069800-1759069800@www.vvalverna.com
SUMMARY:Alverna 1 - AAC-Olympia 1
DESCRIPTION:
URL:https://www.vvalverna.com/00/event/alverna-1-aac-olympia-1/
LOCATION:Sportpark\, Bospad 5\, Alverna
CATEGORIES:Voetbal
END:VEVENT
END:VCALENDAR