BEGIN:VCALENDAR
VERSION:2.0
PRODID:-//Omnivereniging S.C. ALVERNA - ECPv6.15.15//NONSGML v1.0//EN
CALSCALE:GREGORIAN
METHOD:PUBLISH
X-WR-CALNAME:Omnivereniging S.C. ALVERNA
X-ORIGINAL-URL:https://www.vvalverna.com/00
X-WR-CALDESC:Evenementen voor Omnivereniging S.C. ALVERNA
REFRESH-INTERVAL;VALUE=DURATION:PT1H
X-Robots-Tag:noindex
X-PUBLISHED-TTL:PT1H
BEGIN:VTIMEZONE
TZID:Europe/Amsterdam
BEGIN:DAYLIGHT
TZOFFSETFROM:+0100
TZOFFSETTO:+0200
TZNAME:CEST
DTSTART:20240331T010000
END:DAYLIGHT
BEGIN:STANDARD
TZOFFSETFROM:+0200
TZOFFSETTO:+0100
TZNAME:CET
DTSTART:20241027T010000
END:STANDARD
BEGIN:DAYLIGHT
TZOFFSETFROM:+0100
TZOFFSETTO:+0200
TZNAME:CEST
DTSTART:20250330T010000
END:DAYLIGHT
BEGIN:STANDARD
TZOFFSETFROM:+0200
TZOFFSETTO:+0100
TZNAME:CET
DTSTART:20251026T010000
END:STANDARD
BEGIN:DAYLIGHT
TZOFFSETFROM:+0100
TZOFFSETTO:+0200
TZNAME:CEST
DTSTART:20260329T010000
END:DAYLIGHT
BEGIN:STANDARD
TZOFFSETFROM:+0200
TZOFFSETTO:+0100
TZNAME:CET
DTSTART:20261025T010000
END:STANDARD
END:VTIMEZONE
BEGIN:VEVENT
DTSTART;TZID=Europe/Amsterdam:20251122T083000
DTEND;TZID=Europe/Amsterdam:20251122T083000
DTSTAMP:20260421T192557
CREATED:20251113T124921Z
LAST-MODIFIED:20251113T124921Z
UID:165709-1763800200-1763800200@www.vvalverna.com
SUMMARY:Orion JO13-2 JM - Alverna JO13-2
DESCRIPTION:
URL:https://www.vvalverna.com/00/event/orion-jo13-2-jm-alverna-jo13-2/
CATEGORIES:Jeugd,Voetbal
END:VEVENT
BEGIN:VEVENT
DTSTART;TZID=Europe/Amsterdam:20251122T084500
DTEND;TZID=Europe/Amsterdam:20251122T084500
DTSTAMP:20260421T192557
CREATED:20251113T123359Z
LAST-MODIFIED:20251113T123359Z
UID:165685-1763801100-1763801100@www.vvalverna.com
SUMMARY:Alverna JO11-2 - Juliana '31 JO11-3
DESCRIPTION:
URL:https://www.vvalverna.com/00/event/alverna-jo11-2-juliana-31-jo11-3/
LOCATION:Sportpark\, Bospad 5\, Alverna
CATEGORIES:Jeugd,Voetbal
END:VEVENT
BEGIN:VEVENT
DTSTART;TZID=Europe/Amsterdam:20251122T084500
DTEND;TZID=Europe/Amsterdam:20251122T084500
DTSTAMP:20260421T192557
CREATED:20251113T123505Z
LAST-MODIFIED:20251113T123505Z
UID:165687-1763801100-1763801100@www.vvalverna.com
SUMMARY:Alverna JO9-1 - NEC JO9-1
DESCRIPTION:
URL:https://www.vvalverna.com/00/event/alverna-jo9-1-nec-jo9-1/
LOCATION:Sportpark\, Bospad 5\, Alverna
CATEGORIES:Jeugd,Voetbal
END:VEVENT
BEGIN:VEVENT
DTSTART;TZID=Europe/Amsterdam:20251122T090000
DTEND;TZID=Europe/Amsterdam:20251122T090000
DTSTAMP:20260421T192557
CREATED:20251113T123627Z
LAST-MODIFIED:20251113T123627Z
UID:165689-1763802000-1763802000@www.vvalverna.com
SUMMARY:Beuningse Boys JO11-1 JM - Alverna JO11-1
DESCRIPTION:
URL:https://www.vvalverna.com/00/event/beuningse-boys-jo11-1-jm-alverna-jo11-1/
CATEGORIES:Jeugd,Voetbal
END:VEVENT
BEGIN:VEVENT
DTSTART;TZID=Europe/Amsterdam:20251122T090000
DTEND;TZID=Europe/Amsterdam:20251122T090000
DTSTAMP:20260421T192557
CREATED:20251113T123738Z
LAST-MODIFIED:20251113T123738Z
UID:165691-1763802000-1763802000@www.vvalverna.com
SUMMARY:Alverna JO08-1 - AWC JO8-4
DESCRIPTION:
URL:https://www.vvalverna.com/00/event/alverna-jo08-1-awc-jo8-4/
LOCATION:Sportpark\, Bospad 5\, Alverna
CATEGORIES:Jeugd,Voetbal
END:VEVENT
BEGIN:VEVENT
DTSTART;TZID=Europe/Amsterdam:20251122T101500
DTEND;TZID=Europe/Amsterdam:20251122T101500
DTSTAMP:20260421T192557
CREATED:20251113T123840Z
LAST-MODIFIED:20251113T123840Z
UID:165693-1763806500-1763806500@www.vvalverna.com
SUMMARY:Brakkenstein JO10-3 - Alverna JO10-2
DESCRIPTION:
URL:https://www.vvalverna.com/00/event/brakkenstein-jo10-3-alverna-jo10-2/
CATEGORIES:Jeugd,Voetbal
END:VEVENT
BEGIN:VEVENT
DTSTART;TZID=Europe/Amsterdam:20251122T104000
DTEND;TZID=Europe/Amsterdam:20251122T104000
DTSTAMP:20260421T192557
CREATED:20251113T123949Z
LAST-MODIFIED:20251113T123949Z
UID:165695-1763808000-1763808000@www.vvalverna.com
SUMMARY:Alverna JO13-1 - Beuningse Boys JO13-1
DESCRIPTION:
URL:https://www.vvalverna.com/00/event/alverna-jo13-1-beuningse-boys-jo13-1-2/
LOCATION:Sportpark\, Bospad 5\, Alverna
CATEGORIES:Jeugd,Voetbal
END:VEVENT
BEGIN:VEVENT
DTSTART;TZID=Europe/Amsterdam:20251122T110000
DTEND;TZID=Europe/Amsterdam:20251122T110000
DTSTAMP:20260421T192557
CREATED:20251113T124100Z
LAST-MODIFIED:20251113T124100Z
UID:165697-1763809200-1763809200@www.vvalverna.com
SUMMARY:Alverna JO15-2 - SJO Victoria-SCD JO15-1 JM
DESCRIPTION:
URL:https://www.vvalverna.com/00/event/alverna-jo15-2-sjo-victoria-scd-jo15-1-jm/
LOCATION:Sportpark\, Bospad 5\, Alverna
CATEGORIES:Jeugd,Voetbal
END:VEVENT
BEGIN:VEVENT
DTSTART;TZID=Europe/Amsterdam:20251122T123000
DTEND;TZID=Europe/Amsterdam:20251122T123000
DTSTAMP:20260421T192557
CREATED:20251113T124159Z
LAST-MODIFIED:20251113T124159Z
UID:165699-1763814600-1763814600@www.vvalverna.com
SUMMARY:Blauw Wit JO14-2 - Alverna JO14-1
DESCRIPTION:
URL:https://www.vvalverna.com/00/event/blauw-wit-jo14-2-alverna-jo14-1/
CATEGORIES:Jeugd,Voetbal
END:VEVENT
BEGIN:VEVENT
DTSTART;TZID=Europe/Amsterdam:20251122T123000
DTEND;TZID=Europe/Amsterdam:20251122T123000
DTSTAMP:20260421T192557
CREATED:20251113T124312Z
LAST-MODIFIED:20251113T124312Z
UID:165701-1763814600-1763814600@www.vvalverna.com
SUMMARY:Alverna JO15-1 - DVOL JO15-1
DESCRIPTION:
URL:https://www.vvalverna.com/00/event/alverna-jo15-1-dvol-jo15-1-2/
LOCATION:Sportpark\, Bospad 5\, Alverna
CATEGORIES:Jeugd,Voetbal
END:VEVENT
BEGIN:VEVENT
DTSTART;TZID=Europe/Amsterdam:20251122T143000
DTEND;TZID=Europe/Amsterdam:20251122T143000
DTSTAMP:20260421T192557
CREATED:20251113T124358Z
LAST-MODIFIED:20251113T124358Z
UID:165703-1763821800-1763821800@www.vvalverna.com
SUMMARY:Alverna 2 - Trekvogels 4
DESCRIPTION:
URL:https://www.vvalverna.com/00/event/alverna-2-trekvogels-4/
LOCATION:Sportpark\, Bospad 5\, Alverna
CATEGORIES:Voetbal
END:VEVENT
BEGIN:VEVENT
DTSTART;TZID=Europe/Amsterdam:20251122T161500
DTEND;TZID=Europe/Amsterdam:20251122T161500
DTSTAMP:20260421T192557
CREATED:20251113T124501Z
LAST-MODIFIED:20251113T124501Z
UID:165705-1763828100-1763828100@www.vvalverna.com
SUMMARY:Orion JO19-6 - Alverna JO19-1
DESCRIPTION:
URL:https://www.vvalverna.com/00/event/orion-jo19-6-alverna-jo19-1/
CATEGORIES:Jeugd,Voetbal
END:VEVENT
END:VCALENDAR