BEGIN:VCALENDAR
VERSION:2.0
PRODID:-//Omnivereniging S.C. ALVERNA - ECPv6.15.15//NONSGML v1.0//EN
CALSCALE:GREGORIAN
METHOD:PUBLISH
X-WR-CALNAME:Omnivereniging S.C. ALVERNA
X-ORIGINAL-URL:https://www.vvalverna.com/00
X-WR-CALDESC:Evenementen voor Omnivereniging S.C. ALVERNA
REFRESH-INTERVAL;VALUE=DURATION:PT1H
X-Robots-Tag:noindex
X-PUBLISHED-TTL:PT1H
BEGIN:VTIMEZONE
TZID:Europe/Amsterdam
BEGIN:DAYLIGHT
TZOFFSETFROM:+0100
TZOFFSETTO:+0200
TZNAME:CEST
DTSTART:20240331T010000
END:DAYLIGHT
BEGIN:STANDARD
TZOFFSETFROM:+0200
TZOFFSETTO:+0100
TZNAME:CET
DTSTART:20241027T010000
END:STANDARD
BEGIN:DAYLIGHT
TZOFFSETFROM:+0100
TZOFFSETTO:+0200
TZNAME:CEST
DTSTART:20250330T010000
END:DAYLIGHT
BEGIN:STANDARD
TZOFFSETFROM:+0200
TZOFFSETTO:+0100
TZNAME:CET
DTSTART:20251026T010000
END:STANDARD
BEGIN:DAYLIGHT
TZOFFSETFROM:+0100
TZOFFSETTO:+0200
TZNAME:CEST
DTSTART:20260329T010000
END:DAYLIGHT
BEGIN:STANDARD
TZOFFSETFROM:+0200
TZOFFSETTO:+0100
TZNAME:CET
DTSTART:20261025T010000
END:STANDARD
END:VTIMEZONE
BEGIN:VEVENT
DTSTART;TZID=Europe/Amsterdam:20251206T083000
DTEND;TZID=Europe/Amsterdam:20251206T083000
DTSTAMP:20260421T144813
CREATED:20251204T124646Z
LAST-MODIFIED:20251204T124646Z
UID:165795-1765009800-1765009800@www.vvalverna.com
SUMMARY:Trekvogels JO13-1	-	Alverna JO13-2
DESCRIPTION:
URL:https://www.vvalverna.com/00/event/trekvogels-jo13-1-alverna-jo13-2-2/
CATEGORIES:Jeugd,Voetbal
END:VEVENT
BEGIN:VEVENT
DTSTART;TZID=Europe/Amsterdam:20251206T090000
DTEND;TZID=Europe/Amsterdam:20251206T090000
DTSTAMP:20260421T144813
CREATED:20251204T124804Z
LAST-MODIFIED:20251204T124804Z
UID:165799-1765011600-1765011600@www.vvalverna.com
SUMMARY:Alverna JO11-2	-	AWC JO11-5
DESCRIPTION:
URL:https://www.vvalverna.com/00/event/alverna-jo11-2-awc-jo11-5-2/
LOCATION:Sportpark\, Bospad 5\, Alverna
CATEGORIES:Jeugd,Voetbal
END:VEVENT
BEGIN:VEVENT
DTSTART;TZID=Europe/Amsterdam:20251206T090000
DTEND;TZID=Europe/Amsterdam:20251206T090000
DTSTAMP:20260421T144813
CREATED:20251204T124912Z
LAST-MODIFIED:20251204T124912Z
UID:165803-1765011600-1765011600@www.vvalverna.com
SUMMARY:Alverna JO9-1	-	Woezik JO9-1
DESCRIPTION:
URL:https://www.vvalverna.com/00/event/alverna-jo9-1-woezik-jo9-1/
LOCATION:Sportpark\, Bospad 5\, Alverna
CATEGORIES:Jeugd,Voetbal
END:VEVENT
BEGIN:VEVENT
DTSTART;TZID=Europe/Amsterdam:20251206T090000
DTEND;TZID=Europe/Amsterdam:20251206T090000
DTSTAMP:20260421T144813
CREATED:20251204T124951Z
LAST-MODIFIED:20251204T124951Z
UID:165805-1765011600-1765011600@www.vvalverna.com
SUMMARY:Alverna JO8-1	-	Beuningse Boys JO8-4
DESCRIPTION:
URL:https://www.vvalverna.com/00/event/alverna-jo8-1-beuningse-boys-jo8-4/
LOCATION:Sportpark\, Bospad 5\, Alverna
CATEGORIES:Jeugd,Voetbal
END:VEVENT
BEGIN:VEVENT
DTSTART;TZID=Europe/Amsterdam:20251206T100000
DTEND;TZID=Europe/Amsterdam:20251206T100000
DTSTAMP:20260421T144813
CREATED:20251204T124834Z
LAST-MODIFIED:20251204T124834Z
UID:165801-1765015200-1765015200@www.vvalverna.com
SUMMARY:Eendracht '30 JO10-2	-	Alverna JO10-2
DESCRIPTION:
URL:https://www.vvalverna.com/00/event/eendracht-30-jo10-2-alverna-jo10-2/
CATEGORIES:Jeugd,Voetbal
END:VEVENT
BEGIN:VEVENT
DTSTART;TZID=Europe/Amsterdam:20251206T101500
DTEND;TZID=Europe/Amsterdam:20251206T101500
DTSTAMP:20260421T144813
CREATED:20251204T124720Z
LAST-MODIFIED:20251204T124720Z
UID:165797-1765016100-1765016100@www.vvalverna.com
SUMMARY:SC Rheden JO11-1JM	-	Alverna JO11-1
DESCRIPTION:
URL:https://www.vvalverna.com/00/event/sc-rheden-jo11-1jm-alverna-jo11-1/
CATEGORIES:Jeugd,Voetbal
END:VEVENT
BEGIN:VEVENT
DTSTART;TZID=Europe/Amsterdam:20251206T104500
DTEND;TZID=Europe/Amsterdam:20251206T104500
DTSTAMP:20260421T144813
CREATED:20251204T124615Z
LAST-MODIFIED:20251204T124615Z
UID:165793-1765017900-1765017900@www.vvalverna.com
SUMMARY:Alverna JO13-1	-	Quick 1888 JO13-2JM
DESCRIPTION:
URL:https://www.vvalverna.com/00/event/alverna-jo13-1-quick-1888-jo13-2jm/
LOCATION:Sportpark\, Bospad 5\, Alverna
CATEGORIES:Jeugd,Voetbal
END:VEVENT
BEGIN:VEVENT
DTSTART;TZID=Europe/Amsterdam:20251206T120000
DTEND;TZID=Europe/Amsterdam:20251206T120000
DTSTAMP:20260421T144813
CREATED:20251204T124535Z
LAST-MODIFIED:20251204T124535Z
UID:165791-1765022400-1765022400@www.vvalverna.com
SUMMARY:SJO Victoria-SCD JO14-1JM	-	Alverna JO14-1
DESCRIPTION:
URL:https://www.vvalverna.com/00/event/sjo-victoria-scd-jo14-1jm-alverna-jo14-1/
CATEGORIES:Jeugd,Voetbal
END:VEVENT
BEGIN:VEVENT
DTSTART;TZID=Europe/Amsterdam:20251206T123000
DTEND;TZID=Europe/Amsterdam:20251206T123000
DTSTAMP:20260421T144813
CREATED:20251204T124426Z
LAST-MODIFIED:20251204T124426Z
UID:165787-1765024200-1765024200@www.vvalverna.com
SUMMARY:Alverna JO15-1	-	Woezik JO15-1
DESCRIPTION:
URL:https://www.vvalverna.com/00/event/alverna-jo15-1-woezik-jo15-1/
LOCATION:Sportpark\, Bospad 5\, Alverna
CATEGORIES:Jeugd,Voetbal
END:VEVENT
BEGIN:VEVENT
DTSTART;TZID=Europe/Amsterdam:20251206T123000
DTEND;TZID=Europe/Amsterdam:20251206T123000
DTSTAMP:20260421T144813
CREATED:20251204T124504Z
LAST-MODIFIED:20251204T124504Z
UID:165789-1765024200-1765024200@www.vvalverna.com
SUMMARY:Alverna JO15-2	-	Excelsior Z. JO15-1
DESCRIPTION:
URL:https://www.vvalverna.com/00/event/alverna-jo15-2-excelsior-z-jo15-1/
LOCATION:Sportpark\, Bospad 5\, Alverna
CATEGORIES:Jeugd,Voetbal
END:VEVENT
BEGIN:VEVENT
DTSTART;TZID=Europe/Amsterdam:20251206T143000
DTEND;TZID=Europe/Amsterdam:20251206T143000
DTSTAMP:20260421T144813
CREATED:20251204T124322Z
LAST-MODIFIED:20251204T124322Z
UID:165783-1765031400-1765031400@www.vvalverna.com
SUMMARY:Alverna 2	-	Kolping-Dynamo 4
DESCRIPTION:
URL:https://www.vvalverna.com/00/event/alverna-2-kolping-dynamo-4/
LOCATION:Sportpark\, Bospad 5\, Alverna
CATEGORIES:Voetbal
END:VEVENT
BEGIN:VEVENT
DTSTART;TZID=Europe/Amsterdam:20251206T143000
DTEND;TZID=Europe/Amsterdam:20251206T170000
DTSTAMP:20260421T144813
CREATED:20251204T124352Z
LAST-MODIFIED:20251204T124352Z
UID:165785-1765031400-1765040400@www.vvalverna.com
SUMMARY:AWC JO19-3	-	Alverna JO19-1
DESCRIPTION:
URL:https://www.vvalverna.com/00/event/awc-jo19-3-alverna-jo19-1/
CATEGORIES:Jeugd,Voetbal
END:VEVENT
END:VCALENDAR