BEGIN:VCALENDAR
VERSION:2.0
PRODID:-//Omnivereniging S.C. ALVERNA - ECPv6.15.15//NONSGML v1.0//EN
CALSCALE:GREGORIAN
METHOD:PUBLISH
X-ORIGINAL-URL:https://www.vvalverna.com/00
X-WR-CALDESC:Evenementen voor Omnivereniging S.C. ALVERNA
REFRESH-INTERVAL;VALUE=DURATION:PT1H
X-Robots-Tag:noindex
X-PUBLISHED-TTL:PT1H
BEGIN:VTIMEZONE
TZID:Europe/Amsterdam
BEGIN:DAYLIGHT
TZOFFSETFROM:+0100
TZOFFSETTO:+0200
TZNAME:CEST
DTSTART:20250330T010000
END:DAYLIGHT
BEGIN:STANDARD
TZOFFSETFROM:+0200
TZOFFSETTO:+0100
TZNAME:CET
DTSTART:20251026T010000
END:STANDARD
BEGIN:DAYLIGHT
TZOFFSETFROM:+0100
TZOFFSETTO:+0200
TZNAME:CEST
DTSTART:20260329T010000
END:DAYLIGHT
BEGIN:STANDARD
TZOFFSETFROM:+0200
TZOFFSETTO:+0100
TZNAME:CET
DTSTART:20261025T010000
END:STANDARD
BEGIN:DAYLIGHT
TZOFFSETFROM:+0100
TZOFFSETTO:+0200
TZNAME:CEST
DTSTART:20270328T010000
END:DAYLIGHT
BEGIN:STANDARD
TZOFFSETFROM:+0200
TZOFFSETTO:+0100
TZNAME:CET
DTSTART:20271031T010000
END:STANDARD
END:VTIMEZONE
BEGIN:VEVENT
DTSTART;TZID=Europe/Amsterdam:20260207T090000
DTEND;TZID=Europe/Amsterdam:20260207T090000
DTSTAMP:20260421T115801
CREATED:20260129T101006Z
LAST-MODIFIED:20260129T101006Z
UID:165943-1770454800-1770454800@www.vvalverna.com
SUMMARY:SCE JO8-3	- Alverna JO8-1
DESCRIPTION:
URL:https://www.vvalverna.com/00/event/sce-jo8-3-alverna-jo8-1/
CATEGORIES:Jeugd,Voetbal
END:VEVENT
BEGIN:VEVENT
DTSTART;TZID=Europe/Amsterdam:20260207T091500
DTEND;TZID=Europe/Amsterdam:20260207T091500
DTSTAMP:20260421T115801
CREATED:20260129T101057Z
LAST-MODIFIED:20260129T101057Z
UID:165945-1770455700-1770455700@www.vvalverna.com
SUMMARY:Alverna JO9-1	- Spero JO9-1
DESCRIPTION:
URL:https://www.vvalverna.com/00/event/alverna-jo9-1-spero-jo9-1/
LOCATION:Sportpark\, Bospad 5\, Alverna
CATEGORIES:Jeugd,Voetbal
END:VEVENT
BEGIN:VEVENT
DTSTART;TZID=Europe/Amsterdam:20260207T093000
DTEND;TZID=Europe/Amsterdam:20260207T170000
DTSTAMP:20260421T115801
CREATED:20260129T100930Z
LAST-MODIFIED:20260129T100930Z
UID:165941-1770456600-1770483600@www.vvalverna.com
SUMMARY:Alverna JO11-1	- Orion JO11-1
DESCRIPTION:
URL:https://www.vvalverna.com/00/event/alverna-jo11-1-orion-jo11-1/
LOCATION:Sportpark\, Bospad 5\, Alverna
CATEGORIES:Jeugd,Voetbal
END:VEVENT
BEGIN:VEVENT
DTSTART;TZID=Europe/Amsterdam:20260207T100000
DTEND;TZID=Europe/Amsterdam:20260207T100000
DTSTAMP:20260421T115801
CREATED:20260129T101133Z
LAST-MODIFIED:20260129T101133Z
UID:165947-1770458400-1770458400@www.vvalverna.com
SUMMARY:Kesteren JO14-1	- Alverna JO14-1
DESCRIPTION:
URL:https://www.vvalverna.com/00/event/kesteren-jo14-1-alverna-jo14-1/
CATEGORIES:Jeugd,Voetbal
END:VEVENT
BEGIN:VEVENT
DTSTART;TZID=Europe/Amsterdam:20260207T100000
DTEND;TZID=Europe/Amsterdam:20260207T100000
DTSTAMP:20260421T115801
CREATED:20260129T101207Z
LAST-MODIFIED:20260129T101207Z
UID:165949-1770458400-1770458400@www.vvalverna.com
SUMMARY:AWC JO11-5	- Alverna JO11-2
DESCRIPTION:
URL:https://www.vvalverna.com/00/event/awc-jo11-5-alverna-jo11-2/
CATEGORIES:Jeugd,Voetbal
END:VEVENT
BEGIN:VEVENT
DTSTART;TZID=Europe/Amsterdam:20260207T104500
DTEND;TZID=Europe/Amsterdam:20260207T104500
DTSTAMP:20260421T115801
CREATED:20260129T101254Z
LAST-MODIFIED:20260129T101254Z
UID:165951-1770461100-1770461100@www.vvalverna.com
SUMMARY:Alverna JO13-2	- DVOL JO13-1
DESCRIPTION:
URL:https://www.vvalverna.com/00/event/alverna-jo13-2-dvol-jo13-1/
LOCATION:Sportpark\, Bospad 5\, Alverna
CATEGORIES:Jeugd,Voetbal
END:VEVENT
BEGIN:VEVENT
DTSTART;TZID=Europe/Amsterdam:20260207T110000
DTEND;TZID=Europe/Amsterdam:20260207T110000
DTSTAMP:20260421T115801
CREATED:20260129T101338Z
LAST-MODIFIED:20260129T101338Z
UID:165953-1770462000-1770462000@www.vvalverna.com
SUMMARY:Alverna JO15-2	AWC JO15-2
DESCRIPTION:
URL:https://www.vvalverna.com/00/event/alverna-jo15-2awc-jo15-2/
LOCATION:Sportpark\, Bospad 5\, Alverna
CATEGORIES:Jeugd,Voetbal
END:VEVENT
BEGIN:VEVENT
DTSTART;TZID=Europe/Amsterdam:20260207T110000
DTEND;TZID=Europe/Amsterdam:20260207T110000
DTSTAMP:20260421T115801
CREATED:20260129T101417Z
LAST-MODIFIED:20260129T101417Z
UID:165955-1770462000-1770462000@www.vvalverna.com
SUMMARY:SCE JO13-2	- Alverna JO13-1
DESCRIPTION:
URL:https://www.vvalverna.com/00/event/sce-jo13-2-alverna-jo13-1/
CATEGORIES:Jeugd,Voetbal
END:VEVENT
BEGIN:VEVENT
DTSTART;TZID=Europe/Amsterdam:20260207T110000
DTEND;TZID=Europe/Amsterdam:20260207T110000
DTSTAMP:20260421T115801
CREATED:20260129T101510Z
LAST-MODIFIED:20260129T101510Z
UID:165957-1770462000-1770462000@www.vvalverna.com
SUMMARY:SCP JO10-2	- Alverna JO10-2
DESCRIPTION:
URL:https://www.vvalverna.com/00/event/scp-jo10-2-alverna-jo10-2/
CATEGORIES:Jeugd,Voetbal
END:VEVENT
BEGIN:VEVENT
DTSTART;TZID=Europe/Amsterdam:20260207T123000
DTEND;TZID=Europe/Amsterdam:20260207T123000
DTSTAMP:20260421T115801
CREATED:20260129T101606Z
LAST-MODIFIED:20260129T101606Z
UID:165959-1770467400-1770467400@www.vvalverna.com
SUMMARY:Alverna JO15-1	- DVOL JO15-1
DESCRIPTION:
URL:https://www.vvalverna.com/00/event/alverna-jo15-1-dvol-jo15-1-3/
LOCATION:Sportpark\, Bospad 5\, Alverna
CATEGORIES:Jeugd,Voetbal
END:VEVENT
BEGIN:VEVENT
DTSTART;TZID=Europe/Amsterdam:20260207T143000
DTEND;TZID=Europe/Amsterdam:20260207T143000
DTSTAMP:20260421T115801
CREATED:20260129T101701Z
LAST-MODIFIED:20260129T101701Z
UID:165961-1770474600-1770474600@www.vvalverna.com
SUMMARY:Alverna JO19-1	- Bataven JO19-2
DESCRIPTION:
URL:https://www.vvalverna.com/00/event/alverna-jo19-1-bataven-jo19-2/
LOCATION:Sportpark\, Bospad 5\, Alverna
CATEGORIES:Jeugd,Voetbal
END:VEVENT
BEGIN:VEVENT
DTSTART;TZID=Europe/Amsterdam:20260207T150000
DTEND;TZID=Europe/Amsterdam:20260207T150000
DTSTAMP:20260421T115801
CREATED:20260129T101736Z
LAST-MODIFIED:20260129T101736Z
UID:165963-1770476400-1770476400@www.vvalverna.com
SUMMARY:SCE 3	- Alverna 2
DESCRIPTION:
URL:https://www.vvalverna.com/00/event/sce-3-alverna-2/
CATEGORIES:Voetbal
END:VEVENT
END:VCALENDAR