BEGIN:VCALENDAR
VERSION:2.0
PRODID:-//Omnivereniging S.C. ALVERNA - ECPv6.15.15//NONSGML v1.0//EN
CALSCALE:GREGORIAN
METHOD:PUBLISH
X-ORIGINAL-URL:https://www.vvalverna.com/00
X-WR-CALDESC:Evenementen voor Omnivereniging S.C. ALVERNA
REFRESH-INTERVAL;VALUE=DURATION:PT1H
X-Robots-Tag:noindex
X-PUBLISHED-TTL:PT1H
BEGIN:VTIMEZONE
TZID:Europe/Amsterdam
BEGIN:DAYLIGHT
TZOFFSETFROM:+0100
TZOFFSETTO:+0200
TZNAME:CEST
DTSTART:20250330T010000
END:DAYLIGHT
BEGIN:STANDARD
TZOFFSETFROM:+0200
TZOFFSETTO:+0100
TZNAME:CET
DTSTART:20251026T010000
END:STANDARD
BEGIN:DAYLIGHT
TZOFFSETFROM:+0100
TZOFFSETTO:+0200
TZNAME:CEST
DTSTART:20260329T010000
END:DAYLIGHT
BEGIN:STANDARD
TZOFFSETFROM:+0200
TZOFFSETTO:+0100
TZNAME:CET
DTSTART:20261025T010000
END:STANDARD
BEGIN:DAYLIGHT
TZOFFSETFROM:+0100
TZOFFSETTO:+0200
TZNAME:CEST
DTSTART:20270328T010000
END:DAYLIGHT
BEGIN:STANDARD
TZOFFSETFROM:+0200
TZOFFSETTO:+0100
TZNAME:CET
DTSTART:20271031T010000
END:STANDARD
END:VTIMEZONE
BEGIN:VEVENT
DTSTART;TZID=Europe/Amsterdam:20260208T094500
DTEND;TZID=Europe/Amsterdam:20260208T094500
DTSTAMP:20260421T115651
CREATED:20260129T101828Z
LAST-MODIFIED:20260129T101828Z
UID:165965-1770543900-1770543900@www.vvalverna.com
SUMMARY:Alverna 3	- SCE 4
DESCRIPTION:
URL:https://www.vvalverna.com/00/event/alverna-3-sce-4/
LOCATION:Sportpark\, Bospad 5\, Alverna
CATEGORIES:Voetbal
END:VEVENT
BEGIN:VEVENT
DTSTART;TZID=Europe/Amsterdam:20260208T120000
DTEND;TZID=Europe/Amsterdam:20260208T120000
DTSTAMP:20260421T115651
CREATED:20250926T191900Z
LAST-MODIFIED:20250926T191900Z
UID:165340-1770552000-1770552000@www.vvalverna.com
SUMMARY:Alverna VR 1 - Vitesse '08 VR 1
DESCRIPTION:
URL:https://www.vvalverna.com/00/event/alverna-vr-1-vitesse-08-vr-1/
LOCATION:Sportpark\, Bospad 5\, Alverna
CATEGORIES:Voetbal
END:VEVENT
BEGIN:VEVENT
DTSTART;TZID=Europe/Amsterdam:20260208T140000
DTEND;TZID=Europe/Amsterdam:20260208T140000
DTSTAMP:20260421T115651
CREATED:20250926T175551Z
LAST-MODIFIED:20250926T175551Z
UID:165304-1770559200-1770559200@www.vvalverna.com
SUMMARY:AAC- Olympia 1 - Alverna 1
DESCRIPTION:
URL:https://www.vvalverna.com/00/event/aac-olympia-1-alverna-1-2/
CATEGORIES:Voetbal
END:VEVENT
END:VCALENDAR