BEGIN:VCALENDAR
VERSION:2.0
PRODID:-//Omnivereniging S.C. ALVERNA - ECPv6.15.15//NONSGML v1.0//EN
CALSCALE:GREGORIAN
METHOD:PUBLISH
X-WR-CALNAME:Omnivereniging S.C. ALVERNA
X-ORIGINAL-URL:https://www.vvalverna.com/00
X-WR-CALDESC:Evenementen voor Omnivereniging S.C. ALVERNA
REFRESH-INTERVAL;VALUE=DURATION:PT1H
X-Robots-Tag:noindex
X-PUBLISHED-TTL:PT1H
BEGIN:VTIMEZONE
TZID:Europe/Amsterdam
BEGIN:DAYLIGHT
TZOFFSETFROM:+0100
TZOFFSETTO:+0200
TZNAME:CEST
DTSTART:20250330T010000
END:DAYLIGHT
BEGIN:STANDARD
TZOFFSETFROM:+0200
TZOFFSETTO:+0100
TZNAME:CET
DTSTART:20251026T010000
END:STANDARD
BEGIN:DAYLIGHT
TZOFFSETFROM:+0100
TZOFFSETTO:+0200
TZNAME:CEST
DTSTART:20260329T010000
END:DAYLIGHT
BEGIN:STANDARD
TZOFFSETFROM:+0200
TZOFFSETTO:+0100
TZNAME:CET
DTSTART:20261025T010000
END:STANDARD
BEGIN:DAYLIGHT
TZOFFSETFROM:+0100
TZOFFSETTO:+0200
TZNAME:CEST
DTSTART:20270328T010000
END:DAYLIGHT
BEGIN:STANDARD
TZOFFSETFROM:+0200
TZOFFSETTO:+0100
TZNAME:CET
DTSTART:20271031T010000
END:STANDARD
END:VTIMEZONE
BEGIN:VEVENT
DTSTART;TZID=Europe/Amsterdam:20260301T080000
DTEND;TZID=Europe/Amsterdam:20260301T170000
DTSTAMP:20260421T103804
CREATED:20250926T175639Z
LAST-MODIFIED:20250926T175639Z
UID:165306-1772352000-1772384400@www.vvalverna.com
SUMMARY:Alverna 1 - VDS '25 1
DESCRIPTION:
URL:https://www.vvalverna.com/00/event/alverna-1-vds-25-1-2/
LOCATION:Sportpark\, Bospad 5\, Alverna
CATEGORIES:Voetbal
END:VEVENT
BEGIN:VEVENT
DTSTART;TZID=Europe/Amsterdam:20260301T110000
DTEND;TZID=Europe/Amsterdam:20260301T110000
DTSTAMP:20260421T103804
CREATED:20250926T191937Z
LAST-MODIFIED:20250926T192132Z
UID:165342-1772362800-1772362800@www.vvalverna.com
SUMMARY:Juliana Mill VR 1 - Alverna VR 1
DESCRIPTION:
URL:https://www.vvalverna.com/00/event/juliana-mill-vr-1-alverna-vr-1/
CATEGORIES:Voetbal
END:VEVENT
BEGIN:VEVENT
DTSTART;TZID=Europe/Amsterdam:20260301T130000
DTEND;TZID=Europe/Amsterdam:20260301T130000
DTSTAMP:20260421T103804
CREATED:20260129T103657Z
LAST-MODIFIED:20260129T103657Z
UID:165971-1772370000-1772370000@www.vvalverna.com
SUMMARY:Trekvogels 9 - Alverna 3
DESCRIPTION:
URL:https://www.vvalverna.com/00/event/trekvogels-9-alverna-3/
CATEGORIES:Voetbal
END:VEVENT
END:VCALENDAR