BEGIN:VCALENDAR
VERSION:2.0
PRODID:-//Omnivereniging S.C. ALVERNA - ECPv6.15.15//NONSGML v1.0//EN
CALSCALE:GREGORIAN
METHOD:PUBLISH
X-ORIGINAL-URL:https://www.vvalverna.com/00
X-WR-CALDESC:Evenementen voor Omnivereniging S.C. ALVERNA
REFRESH-INTERVAL;VALUE=DURATION:PT1H
X-Robots-Tag:noindex
X-PUBLISHED-TTL:PT1H
BEGIN:VTIMEZONE
TZID:Europe/Amsterdam
BEGIN:DAYLIGHT
TZOFFSETFROM:+0100
TZOFFSETTO:+0200
TZNAME:CEST
DTSTART:20240331T010000
END:DAYLIGHT
BEGIN:STANDARD
TZOFFSETFROM:+0200
TZOFFSETTO:+0100
TZNAME:CET
DTSTART:20241027T010000
END:STANDARD
BEGIN:DAYLIGHT
TZOFFSETFROM:+0100
TZOFFSETTO:+0200
TZNAME:CEST
DTSTART:20250330T010000
END:DAYLIGHT
BEGIN:STANDARD
TZOFFSETFROM:+0200
TZOFFSETTO:+0100
TZNAME:CET
DTSTART:20251026T010000
END:STANDARD
BEGIN:DAYLIGHT
TZOFFSETFROM:+0100
TZOFFSETTO:+0200
TZNAME:CEST
DTSTART:20260329T010000
END:DAYLIGHT
BEGIN:STANDARD
TZOFFSETFROM:+0200
TZOFFSETTO:+0100
TZNAME:CET
DTSTART:20261025T010000
END:STANDARD
END:VTIMEZONE
BEGIN:VEVENT
DTSTART;TZID=Europe/Amsterdam:20251001T133000
DTEND;TZID=Europe/Amsterdam:20251001T133000
DTSTAMP:20260423T155824
CREATED:20250814T124624Z
LAST-MODIFIED:20250814T124624Z
UID:164126-1759325400-1759325400@www.vvalverna.com
SUMMARY:BVA 3 - Soos '82 4
DESCRIPTION:
URL:https://www.vvalverna.com/00/event/bva-3-soos-82-4/
CATEGORIES:Biljart
END:VEVENT
BEGIN:VEVENT
DTSTART;TZID=Europe/Amsterdam:20251004T083000
DTEND;TZID=Europe/Amsterdam:20251004T083000
DTSTAMP:20260423T155824
CREATED:20250925T115406Z
LAST-MODIFIED:20250925T115406Z
UID:165236-1759566600-1759566600@www.vvalverna.com
SUMMARY:Orion JO14-4	-	Alverna JO14-1
DESCRIPTION:
URL:https://www.vvalverna.com/00/event/orion-jo14-4-alverna-jo14-1/
CATEGORIES:Jeugd
END:VEVENT
BEGIN:VEVENT
DTSTART;TZID=Europe/Amsterdam:20251004T090000
DTEND;TZID=Europe/Amsterdam:20251004T090000
DTSTAMP:20260423T155824
CREATED:20250925T115442Z
LAST-MODIFIED:20250925T115442Z
UID:165238-1759568400-1759568400@www.vvalverna.com
SUMMARY:Alverna JO10-1	-	sv DFS JO10-1JM
DESCRIPTION:
URL:https://www.vvalverna.com/00/event/alverna-jo10-1-sv-dfs-jo10-1jm/
LOCATION:Sportpark\, Bospad 5\, Alverna
CATEGORIES:Jeugd
END:VEVENT
BEGIN:VEVENT
DTSTART;TZID=Europe/Amsterdam:20251004T100000
DTEND;TZID=Europe/Amsterdam:20251004T100000
DTSTAMP:20260423T155824
CREATED:20250925T115512Z
LAST-MODIFIED:20250925T115512Z
UID:165240-1759572000-1759572000@www.vvalverna.com
SUMMARY:VDS'25 JO11-1	-	Alverna JO11-2
DESCRIPTION:
URL:https://www.vvalverna.com/00/event/vds25-jo11-1-alverna-jo11-2/
CATEGORIES:Jeugd
END:VEVENT
BEGIN:VEVENT
DTSTART;TZID=Europe/Amsterdam:20251004T101500
DTEND;TZID=Europe/Amsterdam:20251004T101500
DTSTAMP:20260423T155824
CREATED:20250925T115558Z
LAST-MODIFIED:20250925T115558Z
UID:165242-1759572900-1759572900@www.vvalverna.com
SUMMARY:Alverna JO9-1	-	OSC JO9-1
DESCRIPTION:
URL:https://www.vvalverna.com/00/event/alverna-jo9-1-osc-jo9-1/
LOCATION:Sportpark\, Bospad 5\, Alverna
CATEGORIES:Jeugd
END:VEVENT
BEGIN:VEVENT
DTSTART;TZID=Europe/Amsterdam:20251004T103000
DTEND;TZID=Europe/Amsterdam:20251004T103000
DTSTAMP:20260423T155824
CREATED:20250925T115627Z
LAST-MODIFIED:20250925T115627Z
UID:165244-1759573800-1759573800@www.vvalverna.com
SUMMARY:VVO JO13-1	-	Alverna JO13-1
DESCRIPTION:
URL:https://www.vvalverna.com/00/event/vvo-jo13-1-alverna-jo13-1/
CATEGORIES:Jeugd
END:VEVENT
BEGIN:VEVENT
DTSTART;TZID=Europe/Amsterdam:20251004T103000
DTEND;TZID=Europe/Amsterdam:20251004T103000
DTSTAMP:20260423T155824
CREATED:20250925T115656Z
LAST-MODIFIED:20250925T115656Z
UID:165246-1759573800-1759573800@www.vvalverna.com
SUMMARY:Quick 1888 JO10-3	-	Alverna JO10-2
DESCRIPTION:
URL:https://www.vvalverna.com/00/event/quick-1888-jo10-3-alverna-jo10-2/
CATEGORIES:Jeugd
END:VEVENT
BEGIN:VEVENT
DTSTART;TZID=Europe/Amsterdam:20251004T103000
DTEND;TZID=Europe/Amsterdam:20251004T103000
DTSTAMP:20260423T155824
CREATED:20250925T115749Z
LAST-MODIFIED:20250925T115749Z
UID:165248-1759573800-1759573800@www.vvalverna.com
SUMMARY:Woezik JO8-3JM	-	Alverna JO8-1
DESCRIPTION:
URL:https://www.vvalverna.com/00/event/woezik-jo8-3jm-alverna-jo8-1/
CATEGORIES:Jeugd
END:VEVENT
BEGIN:VEVENT
DTSTART;TZID=Europe/Amsterdam:20251004T110000
DTEND;TZID=Europe/Amsterdam:20251004T110000
DTSTAMP:20260423T155824
CREATED:20250925T115831Z
LAST-MODIFIED:20250925T115831Z
UID:165250-1759575600-1759575600@www.vvalverna.com
SUMMARY:Alverna JO15-2	-	Beuningse Boys JO15-1
DESCRIPTION:
URL:https://www.vvalverna.com/00/event/alverna-jo15-2-beuningse-boys-jo15-1/
LOCATION:Sportpark\, Bospad 5\, Alverna
CATEGORIES:Jeugd
END:VEVENT
BEGIN:VEVENT
DTSTART;TZID=Europe/Amsterdam:20251004T121500
DTEND;TZID=Europe/Amsterdam:20251004T121500
DTSTAMP:20260423T155824
CREATED:20250925T115903Z
LAST-MODIFIED:20250925T115903Z
UID:165252-1759580100-1759580100@www.vvalverna.com
SUMMARY:Bataven JO19-3	-	Alverna JO19-1
DESCRIPTION:
URL:https://www.vvalverna.com/00/event/bataven-jo19-3-alverna-jo19-1/
CATEGORIES:Jeugd
END:VEVENT
BEGIN:VEVENT
DTSTART;TZID=Europe/Amsterdam:20251004T123000
DTEND;TZID=Europe/Amsterdam:20251004T123000
DTSTAMP:20260423T155824
CREATED:20250925T115934Z
LAST-MODIFIED:20250925T115934Z
UID:165254-1759581000-1759581000@www.vvalverna.com
SUMMARY:Alverna JO15-1	-	RKHVV JO15-1
DESCRIPTION:
URL:https://www.vvalverna.com/00/event/alverna-jo15-1-rkhvv-jo15-1/
LOCATION:Sportpark\, Bospad 5\, Alverna
CATEGORIES:Jeugd
END:VEVENT
BEGIN:VEVENT
DTSTART;TZID=Europe/Amsterdam:20251004T143000
DTEND;TZID=Europe/Amsterdam:20251004T143000
DTSTAMP:20260423T155824
CREATED:20250925T120009Z
LAST-MODIFIED:20250925T120009Z
UID:165256-1759588200-1759588200@www.vvalverna.com
SUMMARY:Alverna 2	-	Nijmegen 3
DESCRIPTION:
URL:https://www.vvalverna.com/00/event/alverna-2-nijmegen-3/
LOCATION:Sportpark\, Bospad 5\, Alverna
CATEGORIES:Voetbal
END:VEVENT
BEGIN:VEVENT
DTSTART;TZID=Europe/Amsterdam:20251005T103000
DTEND;TZID=Europe/Amsterdam:20251005T103000
DTSTAMP:20260423T155824
CREATED:20250925T120239Z
LAST-MODIFIED:20250925T120239Z
UID:165260-1759660200-1759660200@www.vvalverna.com
SUMMARY:Alverna 3	-	Trekvogels 9
DESCRIPTION:
URL:https://www.vvalverna.com/00/event/alverna-3-trekvogels-9/
LOCATION:Sportpark\, Bospad 5\, Alverna
CATEGORIES:Voetbal
END:VEVENT
BEGIN:VEVENT
DTSTART;TZID=Europe/Amsterdam:20251005T120000
DTEND;TZID=Europe/Amsterdam:20251005T120000
DTSTAMP:20260423T155824
CREATED:20250925T120317Z
LAST-MODIFIED:20250925T120317Z
UID:165262-1759665600-1759665600@www.vvalverna.com
SUMMARY:Alverna VR1	-	Juliana Mill VR1
DESCRIPTION:
URL:https://www.vvalverna.com/00/event/alverna-vr1-juliana-mill-vr1/
LOCATION:Sportpark\, Bospad 5\, Alverna
CATEGORIES:Voetbal
END:VEVENT
BEGIN:VEVENT
DTSTART;TZID=Europe/Amsterdam:20251005T140000
DTEND;TZID=Europe/Amsterdam:20251005T140000
DTSTAMP:20260423T155824
CREATED:20250925T120206Z
LAST-MODIFIED:20250925T120206Z
UID:165258-1759672800-1759672800@www.vvalverna.com
SUMMARY:VDS'25 1	-	Alverna 1
DESCRIPTION:
URL:https://www.vvalverna.com/00/event/vds25-1-alverna-1/
CATEGORIES:Voetbal
END:VEVENT
BEGIN:VEVENT
DTSTART;TZID=Europe/Amsterdam:20251006T183000
DTEND;TZID=Europe/Amsterdam:20251006T183000
DTSTAMP:20260423T155824
CREATED:20250925T120442Z
LAST-MODIFIED:20250925T120442Z
UID:165264-1759775400-1759775400@www.vvalverna.com
SUMMARY:Alverna JO10-2	-	Roda '28 JO10-1JM
DESCRIPTION:
URL:https://www.vvalverna.com/00/event/alverna-jo10-2-roda-28-jo10-1jm-2/
LOCATION:Sportpark\, Bospad 5\, Alverna
CATEGORIES:Jeugd
END:VEVENT
BEGIN:VEVENT
DTSTART;TZID=Europe/Amsterdam:20251010T130000
DTEND;TZID=Europe/Amsterdam:20251010T130000
DTSTAMP:20260423T155824
CREATED:20250814T124732Z
LAST-MODIFIED:20250814T130154Z
UID:164128-1760101200-1760101200@www.vvalverna.com
SUMMARY:BVBW 5 - BVA 3
DESCRIPTION:
URL:https://www.vvalverna.com/00/event/bvbw-5-bva-3/
CATEGORIES:Biljart
END:VEVENT
BEGIN:VEVENT
DTSTART;TZID=Europe/Amsterdam:20251011T083000
DTEND;TZID=Europe/Amsterdam:20251011T083000
DTSTAMP:20260423T155824
CREATED:20251002T154403Z
LAST-MODIFIED:20251002T154403Z
UID:165404-1760171400-1760171400@www.vvalverna.com
SUMMARY:De Treffers JO9-1	-	Alverna JO9-1
DESCRIPTION:
URL:https://www.vvalverna.com/00/event/de-treffers-jo9-1-alverna-jo9-1/
CATEGORIES:Jeugd
END:VEVENT
BEGIN:VEVENT
DTSTART;TZID=Europe/Amsterdam:20251011T090000
DTEND;TZID=Europe/Amsterdam:20251011T090000
DTSTAMP:20260423T155824
CREATED:20251002T154439Z
LAST-MODIFIED:20251002T154439Z
UID:165406-1760173200-1760173200@www.vvalverna.com
SUMMARY:Alverna JO11-2	-	AWC JO11-4
DESCRIPTION:
URL:https://www.vvalverna.com/00/event/alverna-jo11-2-awc-jo11-4/
LOCATION:Sportpark\, Bospad 5\, Alverna
CATEGORIES:Jeugd
END:VEVENT
BEGIN:VEVENT
DTSTART;TZID=Europe/Amsterdam:20251011T091500
DTEND;TZID=Europe/Amsterdam:20251011T091500
DTSTAMP:20260423T155824
CREATED:20251002T154530Z
LAST-MODIFIED:20251002T154530Z
UID:165408-1760174100-1760174100@www.vvalverna.com
SUMMARY:Alverna JO10-2	-	Ewijk JO10-2
DESCRIPTION:
URL:https://www.vvalverna.com/00/event/alverna-jo10-2-ewijk-jo10-2/
LOCATION:Sportpark\, Bospad 5\, Alverna
CATEGORIES:Jeugd
END:VEVENT
BEGIN:VEVENT
DTSTART;TZID=Europe/Amsterdam:20251011T091500
DTEND;TZID=Europe/Amsterdam:20251011T091500
DTSTAMP:20260423T155824
CREATED:20251002T154605Z
LAST-MODIFIED:20251002T154616Z
UID:165410-1760174100-1760174100@www.vvalverna.com
SUMMARY:Alverna JO8-1	-	SCE JO8-3
DESCRIPTION:
URL:https://www.vvalverna.com/00/event/alverna-jo8-1-sce-jo8-3/
LOCATION:Sportpark\, Bospad 5\, Alverna
CATEGORIES:Jeugd
END:VEVENT
BEGIN:VEVENT
DTSTART;TZID=Europe/Amsterdam:20251011T101500
DTEND;TZID=Europe/Amsterdam:20251011T101500
DTSTAMP:20260423T155824
CREATED:20251002T154653Z
LAST-MODIFIED:20251002T154653Z
UID:165412-1760177700-1760177700@www.vvalverna.com
SUMMARY:Brakkenstein JO10-1	-	Alverna JO10-1
DESCRIPTION:
URL:https://www.vvalverna.com/00/event/brakkenstein-jo10-1-alverna-jo10-1/
CATEGORIES:Jeugd
END:VEVENT
BEGIN:VEVENT
DTSTART;TZID=Europe/Amsterdam:20251011T110000
DTEND;TZID=Europe/Amsterdam:20251011T110000
DTSTAMP:20260423T155824
CREATED:20251002T154728Z
LAST-MODIFIED:20251002T154728Z
UID:165414-1760180400-1760180400@www.vvalverna.com
SUMMARY:Alverna JO14-1	-	AVIOS/DBV/AQUILA JO14-2
DESCRIPTION:
URL:https://www.vvalverna.com/00/event/alverna-jo14-1-avios-dbv-aquila-jo14-2/
LOCATION:Sportpark\, Bospad 5\, Alverna
CATEGORIES:Jeugd
END:VEVENT
BEGIN:VEVENT
DTSTART;TZID=Europe/Amsterdam:20251011T110000
DTEND;TZID=Europe/Amsterdam:20251011T110000
DTSTAMP:20260423T155824
CREATED:20251002T154804Z
LAST-MODIFIED:20251002T154804Z
UID:165416-1760180400-1760180400@www.vvalverna.com
SUMMARY:Alverna JO13-1	-	Beuningse Boys JO13-1
DESCRIPTION:
URL:https://www.vvalverna.com/00/event/alverna-jo13-1-beuningse-boys-jo13-1/
LOCATION:Sportpark\, Bospad 5\, Alverna
CATEGORIES:Jeugd
END:VEVENT
BEGIN:VEVENT
DTSTART;TZID=Europe/Amsterdam:20251011T123000
DTEND;TZID=Europe/Amsterdam:20251011T123000
DTSTAMP:20260423T155824
CREATED:20251002T154835Z
LAST-MODIFIED:20251002T154835Z
UID:165418-1760185800-1760185800@www.vvalverna.com
SUMMARY:Brakkenstein JO15-1	-	Alverna JO15-1
DESCRIPTION:
URL:https://www.vvalverna.com/00/event/brakkenstein-jo15-1-alverna-jo15-1/
CATEGORIES:Jeugd
END:VEVENT
BEGIN:VEVENT
DTSTART;TZID=Europe/Amsterdam:20251011T143000
DTEND;TZID=Europe/Amsterdam:20251011T143000
DTSTAMP:20260423T155824
CREATED:20251002T154910Z
LAST-MODIFIED:20251002T154910Z
UID:165420-1760193000-1760193000@www.vvalverna.com
SUMMARY:Alverna JO19-1	-	Orion JO19-6
DESCRIPTION:
URL:https://www.vvalverna.com/00/event/alverna-jo19-1-orion-jo19-6/
LOCATION:Sportpark\, Bospad 5\, Alverna
CATEGORIES:Jeugd
END:VEVENT
BEGIN:VEVENT
DTSTART;TZID=Europe/Amsterdam:20251011T160000
DTEND;TZID=Europe/Amsterdam:20251011T160000
DTSTAMP:20260423T155824
CREATED:20251002T154942Z
LAST-MODIFIED:20251002T154942Z
UID:165422-1760198400-1760198400@www.vvalverna.com
SUMMARY:Eendracht '30 4	-	Alverna 2
DESCRIPTION:
URL:https://www.vvalverna.com/00/event/eendracht-30-4-alverna-2/
CATEGORIES:Voetbal
END:VEVENT
BEGIN:VEVENT
DTSTART;TZID=Europe/Amsterdam:20251012T110000
DTEND;TZID=Europe/Amsterdam:20251012T110000
DTSTAMP:20260423T155824
CREATED:20251002T155049Z
LAST-MODIFIED:20251002T155049Z
UID:165424-1760266800-1760266800@www.vvalverna.com
SUMMARY:DIOSA 5	-	Alverna 3
DESCRIPTION:
URL:https://www.vvalverna.com/00/event/diosa-5-alverna-3/
CATEGORIES:Voetbal
END:VEVENT
BEGIN:VEVENT
DTSTART;TZID=Europe/Amsterdam:20251012T120000
DTEND;TZID=Europe/Amsterdam:20251012T120000
DTSTAMP:20260423T155824
CREATED:20250926T174244Z
LAST-MODIFIED:20250926T174244Z
UID:165279-1760270400-1760270400@www.vvalverna.com
SUMMARY:Trekvogels VR 1 - Alverna VR 1
DESCRIPTION:
URL:https://www.vvalverna.com/00/event/trekvogels-vr-1-alverna-vr-1/
CATEGORIES:Voetbal
END:VEVENT
BEGIN:VEVENT
DTSTART;TZID=Europe/Amsterdam:20251012T143000
DTEND;TZID=Europe/Amsterdam:20251012T143000
DTSTAMP:20260423T155824
CREATED:20250926T174537Z
LAST-MODIFIED:20250926T192348Z
UID:165283-1760279400-1760279400@www.vvalverna.com
SUMMARY:Alverna 1 - Avios/DBV 1
DESCRIPTION:
URL:https://www.vvalverna.com/00/event/alverna-1-avios-dbv-1/
LOCATION:Sportpark\, Bospad 5\, Alverna
CATEGORIES:Voetbal
END:VEVENT
END:VCALENDAR