BEGIN:VCALENDAR
VERSION:2.0
PRODID:-//Omnivereniging S.C. ALVERNA - ECPv6.15.15//NONSGML v1.0//EN
CALSCALE:GREGORIAN
METHOD:PUBLISH
X-WR-CALNAME:Omnivereniging S.C. ALVERNA
X-ORIGINAL-URL:https://www.vvalverna.com/00
X-WR-CALDESC:Evenementen voor Omnivereniging S.C. ALVERNA
REFRESH-INTERVAL;VALUE=DURATION:PT1H
X-Robots-Tag:noindex
X-PUBLISHED-TTL:PT1H
BEGIN:VTIMEZONE
TZID:Europe/Amsterdam
BEGIN:DAYLIGHT
TZOFFSETFROM:+0100
TZOFFSETTO:+0200
TZNAME:CEST
DTSTART:20250330T010000
END:DAYLIGHT
BEGIN:STANDARD
TZOFFSETFROM:+0200
TZOFFSETTO:+0100
TZNAME:CET
DTSTART:20251026T010000
END:STANDARD
BEGIN:DAYLIGHT
TZOFFSETFROM:+0100
TZOFFSETTO:+0200
TZNAME:CEST
DTSTART:20260329T010000
END:DAYLIGHT
BEGIN:STANDARD
TZOFFSETFROM:+0200
TZOFFSETTO:+0100
TZNAME:CET
DTSTART:20261025T010000
END:STANDARD
BEGIN:DAYLIGHT
TZOFFSETFROM:+0100
TZOFFSETTO:+0200
TZNAME:CEST
DTSTART:20270328T010000
END:DAYLIGHT
BEGIN:STANDARD
TZOFFSETFROM:+0200
TZOFFSETTO:+0100
TZNAME:CET
DTSTART:20271031T010000
END:STANDARD
END:VTIMEZONE
BEGIN:VEVENT
DTSTART;TZID=Europe/Amsterdam:20260301T080000
DTEND;TZID=Europe/Amsterdam:20260301T170000
DTSTAMP:20260421T034833
CREATED:20250926T175639Z
LAST-MODIFIED:20250926T175639Z
UID:165306-1772352000-1772384400@www.vvalverna.com
SUMMARY:Alverna 1 - VDS '25 1
DESCRIPTION:
URL:https://www.vvalverna.com/00/event/alverna-1-vds-25-1-2/
LOCATION:Sportpark\, Bospad 5\, Alverna
CATEGORIES:Voetbal
END:VEVENT
BEGIN:VEVENT
DTSTART;TZID=Europe/Amsterdam:20260301T110000
DTEND;TZID=Europe/Amsterdam:20260301T110000
DTSTAMP:20260421T034833
CREATED:20250926T191937Z
LAST-MODIFIED:20250926T192132Z
UID:165342-1772362800-1772362800@www.vvalverna.com
SUMMARY:Juliana Mill VR 1 - Alverna VR 1
DESCRIPTION:
URL:https://www.vvalverna.com/00/event/juliana-mill-vr-1-alverna-vr-1/
CATEGORIES:Voetbal
END:VEVENT
BEGIN:VEVENT
DTSTART;TZID=Europe/Amsterdam:20260301T130000
DTEND;TZID=Europe/Amsterdam:20260301T130000
DTSTAMP:20260421T034833
CREATED:20260129T103657Z
LAST-MODIFIED:20260129T103657Z
UID:165971-1772370000-1772370000@www.vvalverna.com
SUMMARY:Trekvogels 9 - Alverna 3
DESCRIPTION:
URL:https://www.vvalverna.com/00/event/trekvogels-9-alverna-3/
CATEGORIES:Voetbal
END:VEVENT
BEGIN:VEVENT
DTSTART;TZID=Europe/Amsterdam:20260304T080000
DTEND;TZID=Europe/Amsterdam:20260304T170000
DTSTAMP:20260421T034833
CREATED:20260210T143243Z
LAST-MODIFIED:20260210T143243Z
UID:166007-1772611200-1772643600@www.vvalverna.com
SUMMARY:BVA 3	- Paschalis 7
DESCRIPTION:
URL:https://www.vvalverna.com/00/event/bva-3-paschalis-7/
LOCATION:Kantine\, Bospad 5\, Alverna
CATEGORIES:Biljart
END:VEVENT
BEGIN:VEVENT
DTSTART;TZID=Europe/Amsterdam:20260306T200000
DTEND;TZID=Europe/Amsterdam:20260306T233000
DTSTAMP:20260421T034833
CREATED:20251016T104751Z
LAST-MODIFIED:20251016T104751Z
UID:165474-1772827200-1772839800@www.vvalverna.com
SUMMARY:Muziek Bingo
DESCRIPTION:
URL:https://www.vvalverna.com/00/event/muziek-bingo/
LOCATION:Kantine\, Bospad 5\, Alverna
CATEGORIES:Algemeen
END:VEVENT
BEGIN:VEVENT
DTSTART;TZID=Europe/Amsterdam:20260307T083000
DTEND;TZID=Europe/Amsterdam:20260307T083000
DTSTAMP:20260421T034833
CREATED:20260227T165608Z
LAST-MODIFIED:20260227T170224Z
UID:166062-1772872200-1772872200@www.vvalverna.com
SUMMARY:Excelsior Z. JO9-1	- Alverna JO9-1
DESCRIPTION:
URL:https://www.vvalverna.com/00/event/excelsior-z-jo9-1alverna-jo9-1/
CATEGORIES:Jeugd,Voetbal
END:VEVENT
BEGIN:VEVENT
DTSTART;TZID=Europe/Amsterdam:20260307T083000
DTEND;TZID=Europe/Amsterdam:20260307T083000
DTSTAMP:20260421T034833
CREATED:20260227T165637Z
LAST-MODIFIED:20260227T165637Z
UID:166064-1772872200-1772872200@www.vvalverna.com
SUMMARY:SVHA JO8-2	- Alverna JO8-1
DESCRIPTION:
URL:https://www.vvalverna.com/00/event/svha-jo8-2-alverna-jo8-1/
CATEGORIES:Jeugd,Voetbal
END:VEVENT
BEGIN:VEVENT
DTSTART;TZID=Europe/Amsterdam:20260307T084500
DTEND;TZID=Europe/Amsterdam:20260307T084500
DTSTAMP:20260421T034833
CREATED:20260227T165708Z
LAST-MODIFIED:20260227T170542Z
UID:166066-1772873100-1772873100@www.vvalverna.com
SUMMARY:Spero JO14-4	- Alverna JO14-1
DESCRIPTION:
URL:https://www.vvalverna.com/00/event/spero-jo14-4-alverna-jo14-1/
CATEGORIES:Jeugd,Voetbal
END:VEVENT
BEGIN:VEVENT
DTSTART;TZID=Europe/Amsterdam:20260307T090000
DTEND;TZID=Europe/Amsterdam:20260307T090000
DTSTAMP:20260421T034833
CREATED:20260227T165735Z
LAST-MODIFIED:20260227T170500Z
UID:166068-1772874000-1772874000@www.vvalverna.com
SUMMARY:Alverna JO11-1	- RKHVV JO11-1
DESCRIPTION:
URL:https://www.vvalverna.com/00/event/alverna-jo11-1-rkhvv-jo11-1/
LOCATION:Sportpark\, Bospad 5\, Alverna
CATEGORIES:Jeugd,Voetbal
END:VEVENT
BEGIN:VEVENT
DTSTART;TZID=Europe/Amsterdam:20260307T091500
DTEND;TZID=Europe/Amsterdam:20260307T091500
DTSTAMP:20260421T034833
CREATED:20260227T165811Z
LAST-MODIFIED:20260227T165811Z
UID:166070-1772874900-1772874900@www.vvalverna.com
SUMMARY:Alverna JO10-2	- Uchta JO10-2JM
DESCRIPTION:
URL:https://www.vvalverna.com/00/event/alverna-jo10-2-uchta-jo10-2jm/
LOCATION:Sportpark\, Bospad 5\, Alverna
CATEGORIES:Jeugd,Voetbal
END:VEVENT
BEGIN:VEVENT
DTSTART;TZID=Europe/Amsterdam:20260307T101500
DTEND;TZID=Europe/Amsterdam:20260307T101500
DTSTAMP:20260421T034833
CREATED:20260227T165839Z
LAST-MODIFIED:20260227T170412Z
UID:166072-1772878500-1772878500@www.vvalverna.com
SUMMARY:Lienden JO11-1	- Alverna JO11-2
DESCRIPTION:
URL:https://www.vvalverna.com/00/event/lienden-jo11-1-alverna-jo11-2/
CATEGORIES:Jeugd,Voetbal
END:VEVENT
BEGIN:VEVENT
DTSTART;TZID=Europe/Amsterdam:20260307T104500
DTEND;TZID=Europe/Amsterdam:20260307T104500
DTSTAMP:20260421T034833
CREATED:20260227T165915Z
LAST-MODIFIED:20260227T170429Z
UID:166074-1772880300-1772880300@www.vvalverna.com
SUMMARY:Alverna JO15-2	- SCW'23 JO15-1
DESCRIPTION:
URL:https://www.vvalverna.com/00/event/alverna-jo15-2-scw23-jo15-1/
LOCATION:Sportpark\, Bospad 5\, Alverna
CATEGORIES:Jeugd,Voetbal
END:VEVENT
BEGIN:VEVENT
DTSTART;TZID=Europe/Amsterdam:20260307T110000
DTEND;TZID=Europe/Amsterdam:20260307T110000
DTSTAMP:20260421T034833
CREATED:20260227T165952Z
LAST-MODIFIED:20260227T165952Z
UID:166076-1772881200-1772881200@www.vvalverna.com
SUMMARY:Alverna JO13-2	- Jonge Kracht JO13-1
DESCRIPTION:
URL:https://www.vvalverna.com/00/event/alverna-jo13-2-jonge-kracht-jo13-1/
LOCATION:Sportpark\, Bospad 5\, Alverna
CATEGORIES:Jeugd,Voetbal
END:VEVENT
BEGIN:VEVENT
DTSTART;TZID=Europe/Amsterdam:20260307T124500
DTEND;TZID=Europe/Amsterdam:20260307T124500
DTSTAMP:20260421T034833
CREATED:20260227T170033Z
LAST-MODIFIED:20260227T170033Z
UID:166078-1772887500-1772887500@www.vvalverna.com
SUMMARY:Alverna JO15-1	- WSV JO15-2
DESCRIPTION:
URL:https://www.vvalverna.com/00/event/alverna-jo15-1-wsv-jo15-2/
LOCATION:Sportpark\, Bospad 5\, Alverna
CATEGORIES:Jeugd,Voetbal
END:VEVENT
BEGIN:VEVENT
DTSTART;TZID=Europe/Amsterdam:20260307T140000
DTEND;TZID=Europe/Amsterdam:20260307T140000
DTSTAMP:20260421T034833
CREATED:20260227T170110Z
LAST-MODIFIED:20260227T170110Z
UID:166080-1772892000-1772892000@www.vvalverna.com
SUMMARY:ST VDS'25/Batavia JO19-1	- Alverna JO19-1
DESCRIPTION:
URL:https://www.vvalverna.com/00/event/st-vds25-batavia-jo19-1-alverna-jo19-1/
CATEGORIES:Jeugd,Voetbal
END:VEVENT
BEGIN:VEVENT
DTSTART;TZID=Europe/Amsterdam:20260307T143000
DTEND;TZID=Europe/Amsterdam:20260307T143000
DTSTAMP:20260421T034833
CREATED:20260227T170146Z
LAST-MODIFIED:20260227T170146Z
UID:166082-1772893800-1772893800@www.vvalverna.com
SUMMARY:Alverna 2	- Eendracht '30 4
DESCRIPTION:
URL:https://www.vvalverna.com/00/event/alverna-2-eendracht-30-4/
LOCATION:Sportpark\, Bospad 5\, Alverna
CATEGORIES:Voetbal
END:VEVENT
BEGIN:VEVENT
DTSTART;TZID=Europe/Amsterdam:20260308T103000
DTEND;TZID=Europe/Amsterdam:20260308T103000
DTSTAMP:20260421T034833
CREATED:20260129T103807Z
LAST-MODIFIED:20260129T103807Z
UID:165973-1772965800-1772965800@www.vvalverna.com
SUMMARY:Alverna 3 -Diosa 5
DESCRIPTION:
URL:https://www.vvalverna.com/00/event/alverna-3-diosa-5-2/
LOCATION:Sportpark\, Bospad 5\, Alverna
CATEGORIES:Voetbal
END:VEVENT
BEGIN:VEVENT
DTSTART;TZID=Europe/Amsterdam:20260308T120000
DTEND;TZID=Europe/Amsterdam:20260308T120000
DTSTAMP:20260421T034833
CREATED:20250926T192521Z
LAST-MODIFIED:20250926T192521Z
UID:165345-1772971200-1772971200@www.vvalverna.com
SUMMARY:Alverna VR 1 - Trekvogels VR 1
DESCRIPTION:
URL:https://www.vvalverna.com/00/event/alverna-vr-1-trekvogels-vr-1/
LOCATION:Sportpark\, Bospad 5\, Alverna
CATEGORIES:Voetbal
END:VEVENT
BEGIN:VEVENT
DTSTART;TZID=Europe/Amsterdam:20260308T140000
DTEND;TZID=Europe/Amsterdam:20260308T140000
DTSTAMP:20260421T034833
CREATED:20250926T175736Z
LAST-MODIFIED:20250926T175736Z
UID:165308-1772978400-1772978400@www.vvalverna.com
SUMMARY:Avios/DBV 1 - Alverna 1
DESCRIPTION:
URL:https://www.vvalverna.com/00/event/avios-dbv-1-alverna-1/
CATEGORIES:Voetbal
END:VEVENT
BEGIN:VEVENT
DTSTART;TZID=Europe/Amsterdam:20260310T183000
DTEND;TZID=Europe/Amsterdam:20260310T183000
DTSTAMP:20260421T034833
CREATED:20260305T074015Z
LAST-MODIFIED:20260305T074015Z
UID:166113-1773167400-1773167400@www.vvalverna.com
SUMMARY:ST: SCP-DSZ JO13-1	- Alverna JO13-1
DESCRIPTION:
URL:https://www.vvalverna.com/00/event/st-scp-dsz-jo13-1-alverna-jo13-1/
CATEGORIES:Jeugd,Voetbal
END:VEVENT
BEGIN:VEVENT
DTSTART;TZID=Europe/Amsterdam:20260311T133000
DTEND;TZID=Europe/Amsterdam:20260311T170000
DTSTAMP:20260421T034833
CREATED:20260210T143343Z
LAST-MODIFIED:20260210T143343Z
UID:166009-1773235800-1773248400@www.vvalverna.com
SUMMARY:BVA 4	- BV Oost 7
DESCRIPTION:
URL:https://www.vvalverna.com/00/event/bva-4-bv-oost-7/
LOCATION:Kantine\, Bospad 5\, Alverna
CATEGORIES:Biljart
END:VEVENT
BEGIN:VEVENT
DTSTART;TZID=Europe/Amsterdam:20260314T083000
DTEND;TZID=Europe/Amsterdam:20260314T083000
DTSTAMP:20260421T034833
CREATED:20260305T073326Z
LAST-MODIFIED:20260305T073326Z
UID:166089-1773477000-1773477000@www.vvalverna.com
SUMMARY:Spero JO11-1	- Alverna JO11-1
DESCRIPTION:
URL:https://www.vvalverna.com/00/event/spero-jo11-1-alverna-jo11-1/
CATEGORIES:Jeugd,Voetbal
END:VEVENT
BEGIN:VEVENT
DTSTART;TZID=Europe/Amsterdam:20260314T090000
DTEND;TZID=Europe/Amsterdam:20260314T090000
DTSTAMP:20260421T034833
CREATED:20260305T073405Z
LAST-MODIFIED:20260305T073405Z
UID:166091-1773478800-1773478800@www.vvalverna.com
SUMMARY:Alverna JO11-2	- AAC-Olympia JO11-1
DESCRIPTION:
URL:https://www.vvalverna.com/00/event/alverna-jo11-2-aac-olympia-jo11-1/
CATEGORIES:Jeugd,Voetbal
END:VEVENT
BEGIN:VEVENT
DTSTART;TZID=Europe/Amsterdam:20260314T091500
DTEND;TZID=Europe/Amsterdam:20260314T091500
DTSTAMP:20260421T034833
CREATED:20260305T073442Z
LAST-MODIFIED:20260305T073442Z
UID:166093-1773479700-1773479700@www.vvalverna.com
SUMMARY:Alverna JO9-1	- DIO '30 JO9-1
DESCRIPTION:
URL:https://www.vvalverna.com/00/event/alverna-jo9-1-dio-30-jo9-1/
CATEGORIES:Jeugd,Voetbal
END:VEVENT
BEGIN:VEVENT
DTSTART;TZID=Europe/Amsterdam:20260314T091500
DTEND;TZID=Europe/Amsterdam:20260314T091500
DTSTAMP:20260421T034833
CREATED:20260305T073515Z
LAST-MODIFIED:20260305T073515Z
UID:166095-1773479700-1773479700@www.vvalverna.com
SUMMARY:Alverna JO8-1	- AAC-Olympia JO8-1
DESCRIPTION:
URL:https://www.vvalverna.com/00/event/alverna-jo8-1-aac-olympia-jo8-1/
CATEGORIES:Jeugd,Voetbal
END:VEVENT
BEGIN:VEVENT
DTSTART;TZID=Europe/Amsterdam:20260314T100000
DTEND;TZID=Europe/Amsterdam:20260314T100000
DTSTAMP:20260421T034833
CREATED:20260305T073542Z
LAST-MODIFIED:20260305T073542Z
UID:166097-1773482400-1773482400@www.vvalverna.com
SUMMARY:Bataven JO15-1	- Alverna JO15-2
DESCRIPTION:
URL:https://www.vvalverna.com/00/event/bataven-jo15-1-alverna-jo15-2/
CATEGORIES:Jeugd,Voetbal
END:VEVENT
BEGIN:VEVENT
DTSTART;TZID=Europe/Amsterdam:20260314T100000
DTEND;TZID=Europe/Amsterdam:20260314T100000
DTSTAMP:20260421T034833
CREATED:20260305T073609Z
LAST-MODIFIED:20260305T073609Z
UID:166099-1773482400-1773482400@www.vvalverna.com
SUMMARY:Unitas '28 JO10-1	- Alverna JO10-2
DESCRIPTION:
URL:https://www.vvalverna.com/00/event/unitas-28-jo10-1-alverna-jo10-2/
CATEGORIES:Jeugd,Voetbal
END:VEVENT
BEGIN:VEVENT
DTSTART;TZID=Europe/Amsterdam:20260314T104500
DTEND;TZID=Europe/Amsterdam:20260314T104500
DTSTAMP:20260421T034833
CREATED:20260305T073645Z
LAST-MODIFIED:20260305T073645Z
UID:166101-1773485100-1773485100@www.vvalverna.com
SUMMARY:Alverna JO13-1	- AWC JO13-2
DESCRIPTION:
URL:https://www.vvalverna.com/00/event/alverna-jo13-1-awc-jo13-2-2/
CATEGORIES:Jeugd,Voetbal
END:VEVENT
BEGIN:VEVENT
DTSTART;TZID=Europe/Amsterdam:20260314T110000
DTEND;TZID=Europe/Amsterdam:20260314T110000
DTSTAMP:20260421T034833
CREATED:20260305T073717Z
LAST-MODIFIED:20260305T073717Z
UID:166103-1773486000-1773486000@www.vvalverna.com
SUMMARY:Beuningse Boys JO15-1	- Alverna JO15-1
DESCRIPTION:
URL:https://www.vvalverna.com/00/event/beuningse-boys-jo15-1-alverna-jo15-1/
CATEGORIES:Jeugd,Voetbal
END:VEVENT
BEGIN:VEVENT
DTSTART;TZID=Europe/Amsterdam:20260314T120000
DTEND;TZID=Europe/Amsterdam:20260314T120000
DTSTAMP:20260421T034833
CREATED:20260305T073744Z
LAST-MODIFIED:20260305T073744Z
UID:166105-1773489600-1773489600@www.vvalverna.com
SUMMARY:RKHVV JO13-1JM	- Alverna JO13-2
DESCRIPTION:
URL:https://www.vvalverna.com/00/event/rkhvv-jo13-1jm-alverna-jo13-2/
CATEGORIES:Jeugd,Voetbal
END:VEVENT
END:VCALENDAR